BEGIN:VCALENDAR
VERSION:2.0
PRODID:-//evangelisationsteam.de - ECPv6.15.20//NONSGML v1.0//EN
CALSCALE:GREGORIAN
METHOD:PUBLISH
X-WR-CALNAME:evangelisationsteam.de
X-ORIGINAL-URL:https://www.evangelisationsteam.de
X-WR-CALDESC:Veranstaltungen für evangelisationsteam.de
REFRESH-INTERVAL;VALUE=DURATION:PT1H
X-Robots-Tag:noindex
X-PUBLISHED-TTL:PT1H
BEGIN:VTIMEZONE
TZID:Europe/Berlin
BEGIN:DAYLIGHT
TZOFFSETFROM:+0100
TZOFFSETTO:+0200
TZNAME:CEST
DTSTART:20230326T010000
END:DAYLIGHT
BEGIN:STANDARD
TZOFFSETFROM:+0200
TZOFFSETTO:+0100
TZNAME:CET
DTSTART:20231029T010000
END:STANDARD
BEGIN:DAYLIGHT
TZOFFSETFROM:+0100
TZOFFSETTO:+0200
TZNAME:CEST
DTSTART:20240331T010000
END:DAYLIGHT
BEGIN:STANDARD
TZOFFSETFROM:+0200
TZOFFSETTO:+0100
TZNAME:CET
DTSTART:20241027T010000
END:STANDARD
BEGIN:DAYLIGHT
TZOFFSETFROM:+0100
TZOFFSETTO:+0200
TZNAME:CEST
DTSTART:20250330T010000
END:DAYLIGHT
BEGIN:STANDARD
TZOFFSETFROM:+0200
TZOFFSETTO:+0100
TZNAME:CET
DTSTART:20251026T010000
END:STANDARD
BEGIN:DAYLIGHT
TZOFFSETFROM:+0100
TZOFFSETTO:+0200
TZNAME:CEST
DTSTART:20260329T010000
END:DAYLIGHT
BEGIN:STANDARD
TZOFFSETFROM:+0200
TZOFFSETTO:+0100
TZNAME:CET
DTSTART:20261025T010000
END:STANDARD
END:VTIMEZONE
BEGIN:VEVENT
DTSTART;TZID=Europe/Berlin:20250126T100000
DTEND;TZID=Europe/Berlin:20250126T110000
DTSTAMP:20260421T163907
CREATED:20241127T123013Z
LAST-MODIFIED:20241127T123013Z
UID:10005930-1737885600-1737889200@www.evangelisationsteam.de
SUMMARY:GOTTESDIENST
DESCRIPTION:GUNTRAM WURST
URL:https://www.evangelisationsteam.de/termin/gottesdienst-244/
LOCATION:Ge­mein­de­saal GfC Netzschkau\, Hohle Gasse 2d\, Netzschkau\, 08491
ATTACH;FMTTYPE=image/jpeg:https://www.evangelisationsteam.de/wp-content/uploads/2022/03/DAG-HauptsacheGesund-14-scaled.jpg
ORGANIZER;CN="Gemeinde f%C3%BCr Christus Netzschkau":MAILTO:hayo.lautenschlaeger@gmx.de
END:VEVENT
BEGIN:VEVENT
DTSTART;TZID=Europe/Berlin:20250125T160000
DTEND;TZID=Europe/Berlin:20250125T190000
DTSTAMP:20260421T163907
CREATED:20241127T122735Z
LAST-MODIFIED:20241127T122735Z
UID:10005929-1737820800-1737831600@www.evangelisationsteam.de
SUMMARY:SEMINAR MODERATION
DESCRIPTION:GUNTRAM WURST
URL:https://www.evangelisationsteam.de/termin/seminar-moderation-4/
LOCATION:Ge­mein­de­saal GfC Netzschkau\, Hohle Gasse 2d\, Netzschkau\, 08491
ATTACH;FMTTYPE=image/jpeg:https://www.evangelisationsteam.de/wp-content/uploads/2024/06/IMG_9834-scaled.jpg
ORGANIZER;CN="Gemeinde f%C3%BCr Christus Netzschkau":MAILTO:hayo.lautenschlaeger@gmx.de
END:VEVENT
BEGIN:VEVENT
DTSTART;TZID=Europe/Berlin:20240316T100000
DTEND;TZID=Europe/Berlin:20240316T160000
DTSTAMP:20260421T163907
CREATED:20231227T125946Z
LAST-MODIFIED:20231227T125946Z
UID:10005002-1710583200-1710604800@www.evangelisationsteam.de
SUMMARY:SEMINAR PERSÖNLICHE EVANGELISATION
DESCRIPTION:GUNTRAM WURST
URL:https://www.evangelisationsteam.de/termin/seminar-persoenliche-evangelisation-14/
LOCATION:Ge­mein­de­saal GfC Netzschkau\, Hohle Gasse 2d\, Netzschkau\, 08491
ATTACH;FMTTYPE=image/jpeg:https://www.evangelisationsteam.de/wp-content/uploads/2021/06/P1080521-2-scaled.jpg
ORGANIZER;CN="Gemeinde f%C3%BCr Christus Netzschkau":MAILTO:hayo.lautenschlaeger@gmx.de
END:VEVENT
BEGIN:VEVENT
DTSTART;TZID=Europe/Berlin:20240315T183000
DTEND;TZID=Europe/Berlin:20240315T210000
DTSTAMP:20260421T163907
CREATED:20231227T125748Z
LAST-MODIFIED:20231227T125748Z
UID:10005001-1710527400-1710536400@www.evangelisationsteam.de
SUMMARY:SEMINAR PERSÖNLICHE EVANGELISATION
DESCRIPTION:GUNTRAM WURST
URL:https://www.evangelisationsteam.de/termin/seminar-persoenliche-evangelisation-13/
LOCATION:Ge­mein­de­saal GfC Netzschkau\, Hohle Gasse 2d\, Netzschkau\, 08491
ATTACH;FMTTYPE=image/jpeg:https://www.evangelisationsteam.de/wp-content/uploads/2021/06/P1080521-2-scaled.jpg
ORGANIZER;CN="Gemeinde f%C3%BCr Christus Netzschkau":MAILTO:hayo.lautenschlaeger@gmx.de
END:VEVENT
END:VCALENDAR