BEGIN:VCALENDAR
VERSION:2.0
PRODID:-//evangelisationsteam.de - ECPv6.15.20//NONSGML v1.0//EN
CALSCALE:GREGORIAN
METHOD:PUBLISH
X-ORIGINAL-URL:https://www.evangelisationsteam.de
X-WR-CALDESC:Veranstaltungen für evangelisationsteam.de
REFRESH-INTERVAL;VALUE=DURATION:PT1H
X-Robots-Tag:noindex
X-PUBLISHED-TTL:PT1H
BEGIN:VTIMEZONE
TZID:Europe/Berlin
BEGIN:DAYLIGHT
TZOFFSETFROM:+0100
TZOFFSETTO:+0200
TZNAME:CEST
DTSTART:20190331T010000
END:DAYLIGHT
BEGIN:STANDARD
TZOFFSETFROM:+0200
TZOFFSETTO:+0100
TZNAME:CET
DTSTART:20191027T010000
END:STANDARD
BEGIN:DAYLIGHT
TZOFFSETFROM:+0100
TZOFFSETTO:+0200
TZNAME:CEST
DTSTART:20200329T010000
END:DAYLIGHT
BEGIN:STANDARD
TZOFFSETFROM:+0200
TZOFFSETTO:+0100
TZNAME:CET
DTSTART:20201025T010000
END:STANDARD
BEGIN:DAYLIGHT
TZOFFSETFROM:+0100
TZOFFSETTO:+0200
TZNAME:CEST
DTSTART:20210328T010000
END:DAYLIGHT
BEGIN:STANDARD
TZOFFSETFROM:+0200
TZOFFSETTO:+0100
TZNAME:CET
DTSTART:20211031T010000
END:STANDARD
BEGIN:DAYLIGHT
TZOFFSETFROM:+0100
TZOFFSETTO:+0200
TZNAME:CEST
DTSTART:20220327T010000
END:DAYLIGHT
BEGIN:STANDARD
TZOFFSETFROM:+0200
TZOFFSETTO:+0100
TZNAME:CET
DTSTART:20221030T010000
END:STANDARD
BEGIN:DAYLIGHT
TZOFFSETFROM:+0100
TZOFFSETTO:+0200
TZNAME:CEST
DTSTART:20230326T010000
END:DAYLIGHT
BEGIN:STANDARD
TZOFFSETFROM:+0200
TZOFFSETTO:+0100
TZNAME:CET
DTSTART:20231029T010000
END:STANDARD
BEGIN:DAYLIGHT
TZOFFSETFROM:+0100
TZOFFSETTO:+0200
TZNAME:CEST
DTSTART:20240331T010000
END:DAYLIGHT
BEGIN:STANDARD
TZOFFSETFROM:+0200
TZOFFSETTO:+0100
TZNAME:CET
DTSTART:20241027T010000
END:STANDARD
BEGIN:DAYLIGHT
TZOFFSETFROM:+0100
TZOFFSETTO:+0200
TZNAME:CEST
DTSTART:20250330T010000
END:DAYLIGHT
BEGIN:STANDARD
TZOFFSETFROM:+0200
TZOFFSETTO:+0100
TZNAME:CET
DTSTART:20251026T010000
END:STANDARD
BEGIN:DAYLIGHT
TZOFFSETFROM:+0100
TZOFFSETTO:+0200
TZNAME:CEST
DTSTART:20260329T010000
END:DAYLIGHT
BEGIN:STANDARD
TZOFFSETFROM:+0200
TZOFFSETTO:+0100
TZNAME:CET
DTSTART:20261025T010000
END:STANDARD
END:VTIMEZONE
BEGIN:VTIMEZONE
TZID:UTC
BEGIN:STANDARD
TZOFFSETFROM:+0000
TZOFFSETTO:+0000
TZNAME:UTC
DTSTART:20150101T000000
END:STANDARD
END:VTIMEZONE
BEGIN:VEVENT
DTSTART;TZID=Europe/Berlin:20250330T103000
DTEND;TZID=Europe/Berlin:20250330T120000
DTSTAMP:20260424T214624
CREATED:20250107T160925Z
LAST-MODIFIED:20250107T160925Z
UID:10005957-1743330600-1743336000@www.evangelisationsteam.de
SUMMARY:mittendrin-Gottesdienst in Treuen
DESCRIPTION:
URL:https://www.evangelisationsteam.de/termin/mittendrin-gottesdienst-in-treuen-5/
LOCATION:Ge­mein­schafts­haus Treuen\, Marienstraße 10\, Treuen\, 08233\, Deutschland
ATTACH;FMTTYPE=image/jpeg:https://www.evangelisationsteam.de/wp-content/uploads/2024/04/Verkuendigung-007-Kopie.jpeg
END:VEVENT
BEGIN:VEVENT
DTSTART;TZID=Europe/Berlin:20231015T103000
DTEND;TZID=Europe/Berlin:20231015T113000
DTSTAMP:20260424T214624
CREATED:20230323T101837Z
LAST-MODIFIED:20230323T101837Z
UID:10003319-1697365800-1697369400@www.evangelisationsteam.de
SUMMARY:mittendrin-Gottesdienst in Treuen
DESCRIPTION:
URL:https://www.evangelisationsteam.de/termin/mittendrin-gottesdienst-in-treuen-4/
LOCATION:Ge­mein­schafts­haus Treuen\, Marienstraße 10\, Treuen\, 08233\, Deutschland
END:VEVENT
BEGIN:VEVENT
DTSTART;TZID=Europe/Berlin:20210829T103000
DTEND;TZID=Europe/Berlin:20210829T113000
DTSTAMP:20260424T214624
CREATED:20210824T092207Z
LAST-MODIFIED:20210824T092207Z
UID:10001854-1630233000-1630236600@www.evangelisationsteam.de
SUMMARY:mittendrin-Gottesdienst in Treuen
DESCRIPTION:
URL:https://www.evangelisationsteam.de/termin/mittendrin-gottesdienst-in-treuen-3/
LOCATION:Ge­mein­schafts­haus Treuen\, Marienstraße 10\, Treuen\, 08233\, Deutschland
END:VEVENT
BEGIN:VEVENT
DTSTART;TZID=Europe/Berlin:20201011T103000
DTEND;TZID=Europe/Berlin:20201011T120000
DTSTAMP:20260424T214624
CREATED:20200110T111708Z
LAST-MODIFIED:20200110T111708Z
UID:10001700-1602412200-1602417600@www.evangelisationsteam.de
SUMMARY:mittendrin-Gottesdienst Treuen
DESCRIPTION:
URL:https://www.evangelisationsteam.de/termin/mittendrin-gottesdienst-treuen/
LOCATION:Ge­mein­schafts­haus Treuen\, Marienstraße 10\, Treuen\, 08233\, Deutschland
END:VEVENT
BEGIN:VEVENT
DTSTART;TZID=UTC:20190623T103000
DTEND;TZID=UTC:20190623T113000
DTSTAMP:20260424T214624
CREATED:20181214T155118Z
LAST-MODIFIED:20181214T155118Z
UID:10001571-1561285800-1561289400@www.evangelisationsteam.de
SUMMARY:mittendrin-Gottesdienst in Treuen
DESCRIPTION:
URL:https://www.evangelisationsteam.de/termin/mittendrin-gottesdienst-in-treuen-2/
LOCATION:Ge­mein­schafts­haus Treuen\, Marienstraße 10\, Treuen\, 08233\, Deutschland
END:VEVENT
BEGIN:VEVENT
DTSTART;TZID=UTC:20180812T103000
DTEND;TZID=UTC:20180812T113000
DTSTAMP:20260424T214624
CREATED:20180613T074056Z
LAST-MODIFIED:20180613T074056Z
UID:10001483-1534069800-1534073400@www.evangelisationsteam.de
SUMMARY:mittendrin-Gottesdienst Treuen/V.
DESCRIPTION:
URL:https://www.evangelisationsteam.de/termin/mittendrin-gottesdienst-treuen-v/
LOCATION:Ge­mein­schafts­haus Treuen\, Marienstraße 10\, Treuen\, 08233\, Deutschland
END:VEVENT
BEGIN:VEVENT
DTSTART;TZID=UTC:20160131T103000
DTEND;TZID=UTC:20160131T120000
DTSTAMP:20260424T214624
CREATED:20160106T192335Z
LAST-MODIFIED:20160106T192335Z
UID:10000851-1454236200-1454241600@www.evangelisationsteam.de
SUMMARY:"mittendrin"-Gottesdienst
DESCRIPTION:
URL:https://www.evangelisationsteam.de/termin/mittendrin-gottesdienst-3-2/
LOCATION:Ge­mein­schafts­haus Treuen\, Marienstraße 10\, Treuen\, 08233\, Deutschland
END:VEVENT
BEGIN:VEVENT
DTSTART;TZID=UTC:20160131T103000
DTEND;TZID=UTC:20160131T120000
DTSTAMP:20260424T214624
CREATED:20160106T192335Z
LAST-MODIFIED:20160106T192335Z
UID:10000852-1454236200-1454241600@www.evangelisationsteam.de
SUMMARY:"mittendrin"-Gottesdienst
DESCRIPTION:
URL:https://www.evangelisationsteam.de/termin/mittendrin-gottesdienst-3-3/
LOCATION:Ge­mein­schafts­haus Treuen\, Marienstraße 10\, Treuen\, 08233\, Deutschland
END:VEVENT
BEGIN:VEVENT
DTSTART;TZID=UTC:20160131T103000
DTEND;TZID=UTC:20160131T120000
DTSTAMP:20260424T214624
CREATED:20160106T192335Z
LAST-MODIFIED:20160106T192335Z
UID:10000850-1454236200-1454241600@www.evangelisationsteam.de
SUMMARY:"mittendrin"-Gottesdienst
DESCRIPTION:
URL:https://www.evangelisationsteam.de/termin/mittendrin-gottesdienst-3/
LOCATION:Ge­mein­schafts­haus Treuen\, Marienstraße 10\, Treuen\, 08233\, Deutschland
END:VEVENT
END:VCALENDAR