BEGIN:VCALENDAR
VERSION:2.0
PRODID:-//evangelisationsteam.de - ECPv6.15.20//NONSGML v1.0//EN
CALSCALE:GREGORIAN
METHOD:PUBLISH
X-WR-CALNAME:evangelisationsteam.de
X-ORIGINAL-URL:https://www.evangelisationsteam.de
X-WR-CALDESC:Veranstaltungen für evangelisationsteam.de
REFRESH-INTERVAL;VALUE=DURATION:PT1H
X-Robots-Tag:noindex
X-PUBLISHED-TTL:PT1H
BEGIN:VTIMEZONE
TZID:Europe/Berlin
BEGIN:DAYLIGHT
TZOFFSETFROM:+0100
TZOFFSETTO:+0200
TZNAME:CEST
DTSTART:20240331T010000
END:DAYLIGHT
BEGIN:STANDARD
TZOFFSETFROM:+0200
TZOFFSETTO:+0100
TZNAME:CET
DTSTART:20241027T010000
END:STANDARD
BEGIN:DAYLIGHT
TZOFFSETFROM:+0100
TZOFFSETTO:+0200
TZNAME:CEST
DTSTART:20250330T010000
END:DAYLIGHT
BEGIN:STANDARD
TZOFFSETFROM:+0200
TZOFFSETTO:+0100
TZNAME:CET
DTSTART:20251026T010000
END:STANDARD
BEGIN:DAYLIGHT
TZOFFSETFROM:+0100
TZOFFSETTO:+0200
TZNAME:CEST
DTSTART:20260329T010000
END:DAYLIGHT
BEGIN:STANDARD
TZOFFSETFROM:+0200
TZOFFSETTO:+0100
TZNAME:CET
DTSTART:20261025T010000
END:STANDARD
END:VTIMEZONE
BEGIN:VTIMEZONE
TZID:UTC
BEGIN:STANDARD
TZOFFSETFROM:+0000
TZOFFSETTO:+0000
TZNAME:UTC
DTSTART:20150101T000000
END:STANDARD
END:VTIMEZONE
BEGIN:VEVENT
DTSTART;VALUE=DATE:20250816
DTEND;VALUE=DATE:20250818
DTSTAMP:20260421T164402
CREATED:20250503T071036Z
LAST-MODIFIED:20250503T071234Z
UID:10006429-1755302400-1755475199@www.evangelisationsteam.de
SUMMARY:Seelsorge-Seminar
DESCRIPTION:Dr. Chris­ta-Ma­ria Steinberg
URL:https://www.evangelisationsteam.de/termin/seelsorge-seminar-6/
LOCATION:Wald­bad Niederwürschnitz\, Niederwürschnitz\, 09399
ATTACH;FMTTYPE=image/jpeg:https://www.evangelisationsteam.de/wp-content/uploads/2024/03/Steinberg-23-von-68-edited.jpg
END:VEVENT
BEGIN:VEVENT
DTSTART;TZID=Europe/Berlin:20250418T093000
DTEND;TZID=Europe/Berlin:20250418T110000
DTSTAMP:20260421T164402
CREATED:20250107T162054Z
LAST-MODIFIED:20250107T162603Z
UID:10005960-1744968600-1744974000@www.evangelisationsteam.de
SUMMARY:Karfreitaggottesdienst in Niederwürschnitz
DESCRIPTION:
URL:https://www.evangelisationsteam.de/termin/karfreitaggottesdienst-in-niederwuerschnitz/
LOCATION:Wald­bad Niederwürschnitz\, Niederwürschnitz\, 09399
ATTACH;FMTTYPE=image/jpeg:https://www.evangelisationsteam.de/wp-content/uploads/2024/04/Verkuendigung-008-Kopie-e1736267153906.jpeg
END:VEVENT
BEGIN:VEVENT
DTSTART;TZID=UTC:20181118T100000
DTEND;TZID=UTC:20181118T110000
DTSTAMP:20260421T164402
CREATED:20181015T091451Z
LAST-MODIFIED:20181015T091451Z
UID:10001530-1542535200-1542538800@www.evangelisationsteam.de
SUMMARY:Gottesdienst
DESCRIPTION:Mi­cha­el Kaufmann
URL:https://www.evangelisationsteam.de/termin/gottesdienst-69/
LOCATION:Wald­bad Niederwürschnitz\, Niederwürschnitz\, 09399
END:VEVENT
BEGIN:VEVENT
DTSTART;TZID=UTC:20180126T190000
DTEND;TZID=UTC:20180126T210000
DTSTAMP:20260421T164402
CREATED:20171219T095650Z
LAST-MODIFIED:20171219T095650Z
UID:10001403-1516993200-1517000400@www.evangelisationsteam.de
SUMMARY:EC Jugendkreis Niederwürschnitz
DESCRIPTION:
URL:https://www.evangelisationsteam.de/termin/ec-jugendkreis-niederwuerschnitz/
LOCATION:Wald­bad Niederwürschnitz\, Niederwürschnitz\, 09399
END:VEVENT
BEGIN:VEVENT
DTSTART;TZID=UTC:20161009T093000
DTEND;TZID=UTC:20161009T110000
DTSTAMP:20260421T164402
CREATED:20160630T074147Z
LAST-MODIFIED:20160630T074147Z
UID:10000978-1476005400-1476010800@www.evangelisationsteam.de
SUMMARY:Gemeinschaftsstunde Niederwürschnitz
DESCRIPTION:
URL:https://www.evangelisationsteam.de/termin/gemeinschaftsstunde-niederwuerschnitz/
LOCATION:Wald­bad Niederwürschnitz\, Niederwürschnitz\, 09399
END:VEVENT
END:VCALENDAR