BEGIN:VCALENDAR
VERSION:2.0
PRODID:-//evangelisationsteam.de - ECPv6.15.20//NONSGML v1.0//EN
CALSCALE:GREGORIAN
METHOD:PUBLISH
X-WR-CALNAME:evangelisationsteam.de
X-ORIGINAL-URL:https://www.evangelisationsteam.de
X-WR-CALDESC:Veranstaltungen für evangelisationsteam.de
REFRESH-INTERVAL;VALUE=DURATION:PT1H
X-Robots-Tag:noindex
X-PUBLISHED-TTL:PT1H
BEGIN:VTIMEZONE
TZID:UTC
BEGIN:STANDARD
TZOFFSETFROM:+0000
TZOFFSETTO:+0000
TZNAME:UTC
DTSTART:20140101T000000
END:STANDARD
END:VTIMEZONE
BEGIN:VEVENT
DTSTART;TZID=UTC:20170426T193000
DTEND;TZID=UTC:20170426T210000
DTSTAMP:20260419T144411
CREATED:20161215T170630Z
LAST-MODIFIED:20161215T170630Z
UID:10001133-1493235000-1493240400@www.evangelisationsteam.de
SUMMARY:FRAUENKREIS
DESCRIPTION:DR. CHRISTA-MARIA STEINBERG
URL:https://www.evangelisationsteam.de/termin/frauenkreis-9-2/
LOCATION:Haus der lan­des­kirch­li­chen Ge­mein­schaft Bernsdorf\, Obere Hauptstraße 16b\, Bernsdorf OT Hermsdorf\, 09337\, Deutschland
END:VEVENT
BEGIN:VEVENT
DTSTART;TZID=UTC:20150905T160000
DTEND;TZID=UTC:20150905T170000
DTSTAMP:20260419T144411
CREATED:20150827T053745Z
LAST-MODIFIED:20150827T053745Z
UID:10000282-1441468800-1441472400@www.evangelisationsteam.de
SUMMARY:GospelMagic
DESCRIPTION:
URL:https://www.evangelisationsteam.de/termin/gospelmagic-3/
LOCATION:Haus der lan­des­kirch­li­chen Ge­mein­schaft Bernsdorf\, Obere Hauptstraße 16b\, Bernsdorf OT Hermsdorf\, 09337\, Deutschland
END:VEVENT
BEGIN:VEVENT
DTSTART;TZID=UTC:20150905T160000
DTEND;TZID=UTC:20150905T170000
DTSTAMP:20260419T144411
CREATED:20150827T053745Z
LAST-MODIFIED:20150827T053745Z
UID:10000284-1441468800-1441472400@www.evangelisationsteam.de
SUMMARY:GospelMagic
DESCRIPTION:
URL:https://www.evangelisationsteam.de/termin/gospelmagic-3-2/
LOCATION:Haus der lan­des­kirch­li­chen Ge­mein­schaft Bernsdorf\, Obere Hauptstraße 16b\, Bernsdorf OT Hermsdorf\, 09337\, Deutschland
END:VEVENT
BEGIN:VEVENT
DTSTART;TZID=UTC:20150905T160000
DTEND;TZID=UTC:20150905T170000
DTSTAMP:20260419T144411
CREATED:20150827T053745Z
LAST-MODIFIED:20150827T053745Z
UID:10000286-1441468800-1441472400@www.evangelisationsteam.de
SUMMARY:GospelMagic
DESCRIPTION:
URL:https://www.evangelisationsteam.de/termin/gospelmagic-3-3/
LOCATION:Haus der lan­des­kirch­li­chen Ge­mein­schaft Bernsdorf\, Obere Hauptstraße 16b\, Bernsdorf OT Hermsdorf\, 09337\, Deutschland
END:VEVENT
END:VCALENDAR