BEGIN:VCALENDAR
VERSION:2.0
PRODID:-//evangelisationsteam.de - ECPv6.15.20//NONSGML v1.0//EN
CALSCALE:GREGORIAN
METHOD:PUBLISH
X-WR-CALNAME:evangelisationsteam.de
X-ORIGINAL-URL:https://www.evangelisationsteam.de
X-WR-CALDESC:Veranstaltungen für evangelisationsteam.de
REFRESH-INTERVAL;VALUE=DURATION:PT1H
X-Robots-Tag:noindex
X-PUBLISHED-TTL:PT1H
BEGIN:VTIMEZONE
TZID:UTC
BEGIN:STANDARD
TZOFFSETFROM:+0000
TZOFFSETTO:+0000
TZNAME:UTC
DTSTART:20140101T000000
END:STANDARD
END:VTIMEZONE
BEGIN:VEVENT
DTSTART;TZID=UTC:20151128T190000
DTEND;TZID=UTC:20151128T210000
DTSTAMP:20260424T204505
CREATED:20150826T145053Z
LAST-MODIFIED:20150826T145053Z
UID:10000267-1448737200-1448744400@www.evangelisationsteam.de
SUMMARY:Eheseminar
DESCRIPTION:DR. CHRISTA-MARIA STEINBERG
URL:https://www.evangelisationsteam.de/termin/eheseminar-2/
LOCATION:HAUS DER LKG\, Hans-Sachs-Str\, Chemnitz
END:VEVENT
BEGIN:VEVENT
DTSTART;TZID=UTC:20151128T190000
DTEND;TZID=UTC:20151128T210000
DTSTAMP:20260424T204505
CREATED:20150826T145053Z
LAST-MODIFIED:20150826T145053Z
UID:10000554-1448737200-1448744400@www.evangelisationsteam.de
SUMMARY:Eheseminar
DESCRIPTION:DR. CHRISTA-MARIA STEINBERG
URL:https://www.evangelisationsteam.de/termin/eheseminar-3/
LOCATION:HAUS DER LKG\, Hans-Sachs-Str\, Chemnitz
END:VEVENT
BEGIN:VEVENT
DTSTART;TZID=UTC:20151128T190000
DTEND;TZID=UTC:20151128T210000
DTSTAMP:20260424T204505
CREATED:20150826T145053Z
LAST-MODIFIED:20150826T145053Z
UID:10000266-1448737200-1448744400@www.evangelisationsteam.de
SUMMARY:Eheseminar
DESCRIPTION:DR. CHRISTA-MARIA STEINBERG
URL:https://www.evangelisationsteam.de/termin/eheseminar/
LOCATION:HAUS DER LKG\, Hans-Sachs-Str\, Chemnitz
END:VEVENT
END:VCALENDAR