BEGIN:VCALENDAR
VERSION:2.0
PRODID:-//evangelisationsteam.de - ECPv6.15.20//NONSGML v1.0//EN
CALSCALE:GREGORIAN
METHOD:PUBLISH
X-ORIGINAL-URL:https://www.evangelisationsteam.de
X-WR-CALDESC:Veranstaltungen für evangelisationsteam.de
REFRESH-INTERVAL;VALUE=DURATION:PT1H
X-Robots-Tag:noindex
X-PUBLISHED-TTL:PT1H
BEGIN:VTIMEZONE
TZID:UTC
BEGIN:STANDARD
TZOFFSETFROM:+0000
TZOFFSETTO:+0000
TZNAME:UTC
DTSTART:20140101T000000
END:STANDARD
END:VTIMEZONE
BEGIN:VEVENT
DTSTART;TZID=UTC:20151204T183000
DTEND;TZID=UTC:20151204T210000
DTSTAMP:20260422T143529
CREATED:20151012T165253Z
LAST-MODIFIED:20151012T165253Z
UID:10000705-1449253800-1449262800@www.evangelisationsteam.de
SUMMARY:Jugendkreis
DESCRIPTION:KORNELIUS „KORNI“ WEISFLOG
URL:https://www.evangelisationsteam.de/termin/jugendkreis-3-2/
LOCATION:Haus der LKG Weißbach\, Waldstraße 4\, Weißbach\, Sachsen\, 09439\, Deutschland
END:VEVENT
BEGIN:VEVENT
DTSTART;TZID=UTC:20150605T183000
DTEND;TZID=UTC:20150605T210000
DTSTAMP:20260422T143529
CREATED:20150513T163144Z
LAST-MODIFIED:20150513T163144Z
UID:10000299-1433529000-1433538000@www.evangelisationsteam.de
SUMMARY:Jugendstunde
DESCRIPTION:KORNELIUS „KORNI“ WEISFLOG
URL:https://www.evangelisationsteam.de/termin/jugendstunde-4-3/
LOCATION:Haus der LKG Weißbach\, Waldstraße 4\, Weißbach\, Sachsen\, 09439\, Deutschland
END:VEVENT
BEGIN:VEVENT
DTSTART;TZID=UTC:20150605T183000
DTEND;TZID=UTC:20150605T210000
DTSTAMP:20260422T143529
CREATED:20150513T163144Z
LAST-MODIFIED:20150513T163144Z
UID:10000302-1433529000-1433538000@www.evangelisationsteam.de
SUMMARY:Jugendstunde
DESCRIPTION:KORNELIUS „KORNI“ WEISFLOG
URL:https://www.evangelisationsteam.de/termin/jugendstunde-4-2/
LOCATION:Haus der LKG Weißbach\, Waldstraße 4\, Weißbach\, Sachsen\, 09439\, Deutschland
END:VEVENT
BEGIN:VEVENT
DTSTART;TZID=UTC:20150605T183000
DTEND;TZID=UTC:20150605T210000
DTSTAMP:20260422T143529
CREATED:20150513T163144Z
LAST-MODIFIED:20150513T163144Z
UID:10000303-1433529000-1433538000@www.evangelisationsteam.de
SUMMARY:Jugendstunde
DESCRIPTION:KORNELIUS „KORNI“ WEISFLOG
URL:https://www.evangelisationsteam.de/termin/jugendstunde-4/
LOCATION:Haus der LKG Weißbach\, Waldstraße 4\, Weißbach\, Sachsen\, 09439\, Deutschland
END:VEVENT
BEGIN:VEVENT
DTSTART;TZID=UTC:20150501T183000
DTEND;TZID=UTC:20150501T210000
DTSTAMP:20260422T143529
CREATED:20150411T033434Z
LAST-MODIFIED:20150411T033434Z
UID:10000252-1430505000-1430514000@www.evangelisationsteam.de
SUMMARY:Jugendstunde
DESCRIPTION:KORNELIUS „KORNI“ WEISFLOG
URL:https://www.evangelisationsteam.de/termin/jugendstunde-2/
LOCATION:Haus der LKG Weißbach\, Waldstraße 4\, Weißbach\, Sachsen\, 09439\, Deutschland
END:VEVENT
BEGIN:VEVENT
DTSTART;TZID=UTC:20150501T183000
DTEND;TZID=UTC:20150501T210000
DTSTAMP:20260422T143529
CREATED:20150411T033434Z
LAST-MODIFIED:20150411T033434Z
UID:10000323-1430505000-1430514000@www.evangelisationsteam.de
SUMMARY:Jugendstunde
DESCRIPTION:KORNELIUS „KORNI“ WEISFLOG
URL:https://www.evangelisationsteam.de/termin/jugendstunde-2-3/
LOCATION:Haus der LKG Weißbach\, Waldstraße 4\, Weißbach\, Sachsen\, 09439\, Deutschland
END:VEVENT
BEGIN:VEVENT
DTSTART;TZID=UTC:20150501T183000
DTEND;TZID=UTC:20150501T210000
DTSTAMP:20260422T143529
CREATED:20150411T033434Z
LAST-MODIFIED:20150411T033434Z
UID:10000324-1430505000-1430514000@www.evangelisationsteam.de
SUMMARY:Jugendstunde
DESCRIPTION:KORNELIUS „KORNI“ WEISFLOG
URL:https://www.evangelisationsteam.de/termin/jugendstunde-2-2/
LOCATION:Haus der LKG Weißbach\, Waldstraße 4\, Weißbach\, Sachsen\, 09439\, Deutschland
END:VEVENT
END:VCALENDAR