BEGIN:VCALENDAR
VERSION:2.0
PRODID:-//evangelisationsteam.de - ECPv6.15.20//NONSGML v1.0//EN
CALSCALE:GREGORIAN
METHOD:PUBLISH
X-ORIGINAL-URL:https://www.evangelisationsteam.de
X-WR-CALDESC:Veranstaltungen für evangelisationsteam.de
REFRESH-INTERVAL;VALUE=DURATION:PT1H
X-Robots-Tag:noindex
X-PUBLISHED-TTL:PT1H
BEGIN:VTIMEZONE
TZID:UTC
BEGIN:STANDARD
TZOFFSETFROM:+0000
TZOFFSETTO:+0000
TZNAME:UTC
DTSTART:20140101T000000
END:STANDARD
END:VTIMEZONE
BEGIN:VEVENT
DTSTART;TZID=UTC:20150623T183000
DTEND;TZID=UTC:20150623T200000
DTSTAMP:20260420T075027
CREATED:20150529T105602Z
LAST-MODIFIED:20150529T105602Z
UID:10000227-1435084200-1435089600@www.evangelisationsteam.de
SUMMARY:Jugendkreis
DESCRIPTION:Mi­cha­el Kaufmann
URL:https://www.evangelisationsteam.de/termin/jugendkreis-2/
LOCATION:JG Raum\, Wilhelm-Zierold-Weg 15\, Hartenstein OT Zschocken\, 08118
END:VEVENT
BEGIN:VEVENT
DTSTART;TZID=UTC:20150623T183000
DTEND;TZID=UTC:20150623T200000
DTSTAMP:20260420T075027
CREATED:20150529T105602Z
LAST-MODIFIED:20150529T105602Z
UID:10000230-1435084200-1435089600@www.evangelisationsteam.de
SUMMARY:Jugendkreis
DESCRIPTION:Mi­cha­el Kaufmann
URL:https://www.evangelisationsteam.de/termin/jugendkreis-2-2/
LOCATION:JG Raum\, Wilhelm-Zierold-Weg 15\, Hartenstein OT Zschocken\, 08118
END:VEVENT
BEGIN:VEVENT
DTSTART;TZID=UTC:20150623T183000
DTEND;TZID=UTC:20150623T200000
DTSTAMP:20260420T075027
CREATED:20150529T105602Z
LAST-MODIFIED:20150529T105602Z
UID:10000231-1435084200-1435089600@www.evangelisationsteam.de
SUMMARY:Jugendkreis
DESCRIPTION:Mi­cha­el Kaufmann
URL:https://www.evangelisationsteam.de/termin/jugendkreis-2-3/
LOCATION:JG Raum\, Wilhelm-Zierold-Weg 15\, Hartenstein OT Zschocken\, 08118
END:VEVENT
END:VCALENDAR