BEGIN:VCALENDAR
VERSION:2.0
PRODID:-//evangelisationsteam.de - ECPv6.15.20//NONSGML v1.0//EN
CALSCALE:GREGORIAN
METHOD:PUBLISH
X-ORIGINAL-URL:https://www.evangelisationsteam.de
X-WR-CALDESC:Veranstaltungen für evangelisationsteam.de
REFRESH-INTERVAL;VALUE=DURATION:PT1H
X-Robots-Tag:noindex
X-PUBLISHED-TTL:PT1H
BEGIN:VTIMEZONE
TZID:Europe/Berlin
BEGIN:DAYLIGHT
TZOFFSETFROM:+0100
TZOFFSETTO:+0200
TZNAME:CEST
DTSTART:20240331T010000
END:DAYLIGHT
BEGIN:STANDARD
TZOFFSETFROM:+0200
TZOFFSETTO:+0100
TZNAME:CET
DTSTART:20241027T010000
END:STANDARD
BEGIN:DAYLIGHT
TZOFFSETFROM:+0100
TZOFFSETTO:+0200
TZNAME:CEST
DTSTART:20250330T010000
END:DAYLIGHT
BEGIN:STANDARD
TZOFFSETFROM:+0200
TZOFFSETTO:+0100
TZNAME:CET
DTSTART:20251026T010000
END:STANDARD
BEGIN:DAYLIGHT
TZOFFSETFROM:+0100
TZOFFSETTO:+0200
TZNAME:CEST
DTSTART:20260329T010000
END:DAYLIGHT
BEGIN:STANDARD
TZOFFSETFROM:+0200
TZOFFSETTO:+0100
TZNAME:CET
DTSTART:20261025T010000
END:STANDARD
END:VTIMEZONE
BEGIN:VTIMEZONE
TZID:UTC
BEGIN:STANDARD
TZOFFSETFROM:+0000
TZOFFSETTO:+0000
TZNAME:UTC
DTSTART:20210101T000000
END:STANDARD
END:VTIMEZONE
BEGIN:VEVENT
DTSTART;TZID=Europe/Berlin:20250320T193000
DTEND;TZID=Europe/Berlin:20250320T210000
DTSTAMP:20260421T165100
CREATED:20241127T124850Z
LAST-MODIFIED:20250311T115626Z
UID:10005935-1742499000-1742504400@www.evangelisationsteam.de
SUMMARY:BIBELABEND
DESCRIPTION:GUNTRAM WURST
URL:https://www.evangelisationsteam.de/termin/bibelabend-11/
LOCATION:Kir­che Neudorf\, Straße der Freundschaft 2\, Sehmatal-Neudorf\, 09465
ATTACH;FMTTYPE=image/jpeg:https://www.evangelisationsteam.de/wp-content/uploads/2024/03/info_EVANGELISATIONSTEAM_240323_a240304_twk_DSCF8222-scaled.jpg
END:VEVENT
BEGIN:VEVENT
DTSTART;TZID=UTC:20220319T193000
DTEND;TZID=UTC:20220319T210000
DTSTAMP:20260421T165100
CREATED:20220305T113547Z
LAST-MODIFIED:20220305T113639Z
UID:10001935-1647718200-1647723600@www.evangelisationsteam.de
SUMMARY:BIBELABEND
DESCRIPTION:GUNTRAM WURST
URL:https://www.evangelisationsteam.de/termin/bibelabend-9/
LOCATION:Kir­che Neudorf\, Straße der Freundschaft 2\, Sehmatal-Neudorf\, 09465
ATTACH;FMTTYPE=image/jpeg:https://www.evangelisationsteam.de/wp-content/uploads/2022/03/DAG-HauptsacheGesund-14-1-scaled.jpg
END:VEVENT
END:VCALENDAR