BEGIN:VCALENDAR
VERSION:2.0
PRODID:-//evangelisationsteam.de - ECPv6.15.20//NONSGML v1.0//EN
CALSCALE:GREGORIAN
METHOD:PUBLISH
X-ORIGINAL-URL:https://www.evangelisationsteam.de
X-WR-CALDESC:Veranstaltungen für evangelisationsteam.de
REFRESH-INTERVAL;VALUE=DURATION:PT1H
X-Robots-Tag:noindex
X-PUBLISHED-TTL:PT1H
BEGIN:VTIMEZONE
TZID:Europe/Berlin
BEGIN:DAYLIGHT
TZOFFSETFROM:+0100
TZOFFSETTO:+0200
TZNAME:CEST
DTSTART:20220327T010000
END:DAYLIGHT
BEGIN:STANDARD
TZOFFSETFROM:+0200
TZOFFSETTO:+0100
TZNAME:CET
DTSTART:20221030T010000
END:STANDARD
BEGIN:DAYLIGHT
TZOFFSETFROM:+0100
TZOFFSETTO:+0200
TZNAME:CEST
DTSTART:20230326T010000
END:DAYLIGHT
BEGIN:STANDARD
TZOFFSETFROM:+0200
TZOFFSETTO:+0100
TZNAME:CET
DTSTART:20231029T010000
END:STANDARD
BEGIN:DAYLIGHT
TZOFFSETFROM:+0100
TZOFFSETTO:+0200
TZNAME:CEST
DTSTART:20240331T010000
END:DAYLIGHT
BEGIN:STANDARD
TZOFFSETFROM:+0200
TZOFFSETTO:+0100
TZNAME:CET
DTSTART:20241027T010000
END:STANDARD
END:VTIMEZONE
BEGIN:VTIMEZONE
TZID:UTC
BEGIN:STANDARD
TZOFFSETFROM:+0000
TZOFFSETTO:+0000
TZNAME:UTC
DTSTART:20170101T000000
END:STANDARD
END:VTIMEZONE
BEGIN:VEVENT
DTSTART;TZID=Europe/Berlin:20231029T093000
DTEND;TZID=Europe/Berlin:20231029T110000
DTSTAMP:20260419T193753
CREATED:20230719T073849Z
LAST-MODIFIED:20231028T201031Z
UID:10004151-1698571800-1698577200@www.evangelisationsteam.de
SUMMARY:GOTTESDIENST
DESCRIPTION:LUTZ SCHEUFLER
URL:https://www.evangelisationsteam.de/termin/gottesdienst-203/
LOCATION:KIRCHE NEUSTADT\, Kirchplatz 2\, Neustadt in Sachsen\, 01844
ATTACH;FMTTYPE=image/jpeg:https://www.evangelisationsteam.de/wp-content/uploads/2022/11/LutzScheufler.jpg
END:VEVENT
BEGIN:VEVENT
DTSTART;TZID=Europe/Berlin:20231028T193000
DTEND;TZID=Europe/Berlin:20231028T210000
DTSTAMP:20260419T193753
CREATED:20230719T073748Z
LAST-MODIFIED:20230719T073748Z
UID:10004150-1698521400-1698526800@www.evangelisationsteam.de
SUMMARY:KONZERT
DESCRIPTION:LUTZ SCHEUFLER
URL:https://www.evangelisationsteam.de/termin/konzert-53/
LOCATION:KIRCHE NEUSTADT\, Kirchplatz 2\, Neustadt in Sachsen\, 01844
ATTACH;FMTTYPE=image/jpeg:https://www.evangelisationsteam.de/wp-content/uploads/2020/03/Bräuer-1570.jpeg
END:VEVENT
BEGIN:VEVENT
DTSTART;TZID=UTC:20180509T190000
DTEND;TZID=UTC:20180509T203000
DTSTAMP:20260419T193753
CREATED:20171129T174735Z
LAST-MODIFIED:20171129T174735Z
UID:10000717-1525892400-1525897800@www.evangelisationsteam.de
SUMMARY:KONZERT
DESCRIPTION:LUTZ SCHEUFLER
URL:https://www.evangelisationsteam.de/termin/konzert-10/
LOCATION:KIRCHE NEUSTADT\, Kirchplatz 2\, Neustadt in Sachsen\, 01844
END:VEVENT
END:VCALENDAR