BEGIN:VCALENDAR
VERSION:2.0
PRODID:-//evangelisationsteam.de - ECPv6.15.20//NONSGML v1.0//EN
CALSCALE:GREGORIAN
METHOD:PUBLISH
X-ORIGINAL-URL:https://www.evangelisationsteam.de
X-WR-CALDESC:Veranstaltungen für evangelisationsteam.de
REFRESH-INTERVAL;VALUE=DURATION:PT1H
X-Robots-Tag:noindex
X-PUBLISHED-TTL:PT1H
BEGIN:VTIMEZONE
TZID:UTC
BEGIN:STANDARD
TZOFFSETFROM:+0000
TZOFFSETTO:+0000
TZNAME:UTC
DTSTART:20140101T000000
END:STANDARD
END:VTIMEZONE
BEGIN:VEVENT
DTSTART;TZID=UTC:20150526T200000
DTEND;TZID=UTC:20150526T220000
DTSTAMP:20260420T123840
CREATED:20150511T074511Z
LAST-MODIFIED:20150511T074511Z
UID:10000306-1432670400-1432677600@www.evangelisationsteam.de
SUMMARY:Männerabend
DESCRIPTION:
URL:https://www.evangelisationsteam.de/termin/maennerabend-4/
LOCATION:Kirch­ge­mein­de­haus Zwickau-Planitz\, Schlossparkstraße 50\, Zwickau\, 08064\, Deutschland
END:VEVENT
BEGIN:VEVENT
DTSTART;TZID=UTC:20150526T200000
DTEND;TZID=UTC:20150526T220000
DTSTAMP:20260420T123840
CREATED:20150511T074511Z
LAST-MODIFIED:20150511T074511Z
UID:10000319-1432670400-1432677600@www.evangelisationsteam.de
SUMMARY:Männerabend
DESCRIPTION:
URL:https://www.evangelisationsteam.de/termin/maennerabend-5/
LOCATION:Kirch­ge­mein­de­haus Zwickau-Planitz\, Schlossparkstraße 50\, Zwickau\, 08064\, Deutschland
END:VEVENT
BEGIN:VEVENT
DTSTART;TZID=UTC:20150526T200000
DTEND;TZID=UTC:20150526T220000
DTSTAMP:20260420T123840
CREATED:20150511T074511Z
LAST-MODIFIED:20150511T074511Z
UID:10000320-1432670400-1432677600@www.evangelisationsteam.de
SUMMARY:Männerabend
DESCRIPTION:
URL:https://www.evangelisationsteam.de/termin/maennerabend/
LOCATION:Kirch­ge­mein­de­haus Zwickau-Planitz\, Schlossparkstraße 50\, Zwickau\, 08064\, Deutschland
END:VEVENT
END:VCALENDAR