BEGIN:VCALENDAR
VERSION:2.0
PRODID:-//evangelisationsteam.de - ECPv6.15.20//NONSGML v1.0//EN
CALSCALE:GREGORIAN
METHOD:PUBLISH
X-WR-CALNAME:evangelisationsteam.de
X-ORIGINAL-URL:https://www.evangelisationsteam.de
X-WR-CALDESC:Veranstaltungen für evangelisationsteam.de
REFRESH-INTERVAL;VALUE=DURATION:PT1H
X-Robots-Tag:noindex
X-PUBLISHED-TTL:PT1H
BEGIN:VTIMEZONE
TZID:Europe/Berlin
BEGIN:DAYLIGHT
TZOFFSETFROM:+0100
TZOFFSETTO:+0200
TZNAME:CEST
DTSTART:20200329T010000
END:DAYLIGHT
BEGIN:STANDARD
TZOFFSETFROM:+0200
TZOFFSETTO:+0100
TZNAME:CET
DTSTART:20201025T010000
END:STANDARD
BEGIN:DAYLIGHT
TZOFFSETFROM:+0100
TZOFFSETTO:+0200
TZNAME:CEST
DTSTART:20210328T010000
END:DAYLIGHT
BEGIN:STANDARD
TZOFFSETFROM:+0200
TZOFFSETTO:+0100
TZNAME:CET
DTSTART:20211031T010000
END:STANDARD
BEGIN:DAYLIGHT
TZOFFSETFROM:+0100
TZOFFSETTO:+0200
TZNAME:CEST
DTSTART:20220327T010000
END:DAYLIGHT
BEGIN:STANDARD
TZOFFSETFROM:+0200
TZOFFSETTO:+0100
TZNAME:CET
DTSTART:20221030T010000
END:STANDARD
BEGIN:DAYLIGHT
TZOFFSETFROM:+0100
TZOFFSETTO:+0200
TZNAME:CEST
DTSTART:20230326T010000
END:DAYLIGHT
BEGIN:STANDARD
TZOFFSETFROM:+0200
TZOFFSETTO:+0100
TZNAME:CET
DTSTART:20231029T010000
END:STANDARD
END:VTIMEZONE
BEGIN:VEVENT
DTSTART;TZID=Europe/Berlin:20220402T180000
DTEND;TZID=Europe/Berlin:20220403T130000
DTSTAMP:20260421T144019
CREATED:20211129T160727Z
LAST-MODIFIED:20220323T082623Z
UID:10001203-1648922400-1648990800@www.evangelisationsteam.de
SUMMARY:LIGHTHOUSE CELEBRATION
DESCRIPTION:„JESUS VERÄNDERT DEIN LEBEN“ \n \nPAUL KOCH
URL:https://www.evangelisationsteam.de/termin/lighthouse-celebration/
LOCATION:Lau­ter
END:VEVENT
BEGIN:VEVENT
DTSTART;TZID=Europe/Berlin:20211231T160000
DTEND;TZID=Europe/Berlin:20211231T170000
DTSTAMP:20260421T144019
CREATED:20211215T182348Z
LAST-MODIFIED:20220103T161636Z
UID:10001893-1640966400-1640970000@www.evangelisationsteam.de
SUMMARY:Gottesdienst Silvester
DESCRIPTION:Mi­cha­el Kaufmann
URL:https://www.evangelisationsteam.de/termin/gottesdienst-silvester/
LOCATION:Lau­ter
ATTACH;FMTTYPE=image/jpeg:https://www.evangelisationsteam.de/wp-content/uploads/2021/05/P1080646.jpg
END:VEVENT
END:VCALENDAR