BEGIN:VCALENDAR
VERSION:2.0
PRODID:-//evangelisationsteam.de - ECPv6.15.20//NONSGML v1.0//EN
CALSCALE:GREGORIAN
METHOD:PUBLISH
X-WR-CALNAME:evangelisationsteam.de
X-ORIGINAL-URL:https://www.evangelisationsteam.de
X-WR-CALDESC:Veranstaltungen für evangelisationsteam.de
REFRESH-INTERVAL;VALUE=DURATION:PT1H
X-Robots-Tag:noindex
X-PUBLISHED-TTL:PT1H
BEGIN:VTIMEZONE
TZID:Europe/Berlin
BEGIN:DAYLIGHT
TZOFFSETFROM:+0100
TZOFFSETTO:+0200
TZNAME:CEST
DTSTART:20200329T010000
END:DAYLIGHT
BEGIN:STANDARD
TZOFFSETFROM:+0200
TZOFFSETTO:+0100
TZNAME:CET
DTSTART:20201025T010000
END:STANDARD
BEGIN:DAYLIGHT
TZOFFSETFROM:+0100
TZOFFSETTO:+0200
TZNAME:CEST
DTSTART:20210328T010000
END:DAYLIGHT
BEGIN:STANDARD
TZOFFSETFROM:+0200
TZOFFSETTO:+0100
TZNAME:CET
DTSTART:20211031T010000
END:STANDARD
BEGIN:DAYLIGHT
TZOFFSETFROM:+0100
TZOFFSETTO:+0200
TZNAME:CEST
DTSTART:20220327T010000
END:DAYLIGHT
BEGIN:STANDARD
TZOFFSETFROM:+0200
TZOFFSETTO:+0100
TZNAME:CET
DTSTART:20221030T010000
END:STANDARD
BEGIN:DAYLIGHT
TZOFFSETFROM:+0100
TZOFFSETTO:+0200
TZNAME:CEST
DTSTART:20230326T010000
END:DAYLIGHT
BEGIN:STANDARD
TZOFFSETFROM:+0200
TZOFFSETTO:+0100
TZNAME:CET
DTSTART:20231029T010000
END:STANDARD
BEGIN:DAYLIGHT
TZOFFSETFROM:+0100
TZOFFSETTO:+0200
TZNAME:CEST
DTSTART:20240331T010000
END:DAYLIGHT
BEGIN:STANDARD
TZOFFSETFROM:+0200
TZOFFSETTO:+0100
TZNAME:CET
DTSTART:20241027T010000
END:STANDARD
BEGIN:DAYLIGHT
TZOFFSETFROM:+0100
TZOFFSETTO:+0200
TZNAME:CEST
DTSTART:20250330T010000
END:DAYLIGHT
BEGIN:STANDARD
TZOFFSETFROM:+0200
TZOFFSETTO:+0100
TZNAME:CET
DTSTART:20251026T010000
END:STANDARD
BEGIN:DAYLIGHT
TZOFFSETFROM:+0100
TZOFFSETTO:+0200
TZNAME:CEST
DTSTART:20260329T010000
END:DAYLIGHT
BEGIN:STANDARD
TZOFFSETFROM:+0200
TZOFFSETTO:+0100
TZNAME:CET
DTSTART:20261025T010000
END:STANDARD
BEGIN:DAYLIGHT
TZOFFSETFROM:+0100
TZOFFSETTO:+0200
TZNAME:CEST
DTSTART:20270328T010000
END:DAYLIGHT
BEGIN:STANDARD
TZOFFSETFROM:+0200
TZOFFSETTO:+0100
TZNAME:CET
DTSTART:20271031T010000
END:STANDARD
END:VTIMEZONE
BEGIN:VEVENT
DTSTART;TZID=Europe/Berlin:20260208T100000
DTEND;TZID=Europe/Berlin:20260208T113000
DTSTAMP:20260423T135409
CREATED:20260122T101608Z
LAST-MODIFIED:20260129T084841Z
UID:10008123-1770544800-1770550200@www.evangelisationsteam.de
SUMMARY:Familiengottesdienst LKG Glauchau
DESCRIPTION:Zwei Ty­pen. Zwei Zie­le. Zwei Herzen. Der ei­ne will be­hal­ten\, was ihm wich­tig ist. Der an­de­re gibt al­les auf\, weil Je­sus al­les ist. \nWas pas­siert\, wenn Je­sus dein Le­ben auf den Kopf stellt? \nEnt­de­cke mit uns\, wie Chris­tus Her­zen ver­än­dert – da­mals wie heute. Ein Fa­mi­li­en­got­tes­dienst über Eh­re\, Angst\, Hoff­nung und ech­te Veränderung.
URL:https://www.evangelisationsteam.de/termin/familiengottesdienst-lkg-glauchau/
LOCATION:LKG GLAUCHAU\, Dr.-Heinrich-von-Wolffersdorff-Str. 14\, Glauchau\, 08371
ATTACH;FMTTYPE=image/heic:https://www.evangelisationsteam.de/wp-content/uploads/2025/09/IMG_6153-scaled.jpg
END:VEVENT
BEGIN:VEVENT
DTSTART;TZID=Europe/Berlin:20211128T100000
DTEND;TZID=Europe/Berlin:20211128T113000
DTSTAMP:20260423T135409
CREATED:20210623T095526Z
LAST-MODIFIED:20210705T085852Z
UID:10001165-1638093600-1638099000@www.evangelisationsteam.de
SUMMARY:Lichtblick-Gottesdienst
DESCRIPTION:LUTZ SCHEUFLER
URL:https://www.evangelisationsteam.de/termin/lichtblick-gottesdienst-2/
LOCATION:LKG GLAUCHAU\, Dr.-Heinrich-von-Wolffersdorff-Str. 14\, Glauchau\, 08371
ATTACH;FMTTYPE=image/jpeg:https://www.evangelisationsteam.de/wp-content/uploads/2020/03/Bräuer-1609.jpeg
END:VEVENT
END:VCALENDAR