BEGIN:VCALENDAR
VERSION:2.0
PRODID:-//evangelisationsteam.de - ECPv6.15.20//NONSGML v1.0//EN
CALSCALE:GREGORIAN
METHOD:PUBLISH
X-ORIGINAL-URL:https://www.evangelisationsteam.de
X-WR-CALDESC:Veranstaltungen für evangelisationsteam.de
REFRESH-INTERVAL;VALUE=DURATION:PT1H
X-Robots-Tag:noindex
X-PUBLISHED-TTL:PT1H
BEGIN:VTIMEZONE
TZID:Europe/Berlin
BEGIN:DAYLIGHT
TZOFFSETFROM:+0100
TZOFFSETTO:+0200
TZNAME:CEST
DTSTART:20200329T010000
END:DAYLIGHT
BEGIN:STANDARD
TZOFFSETFROM:+0200
TZOFFSETTO:+0100
TZNAME:CET
DTSTART:20201025T010000
END:STANDARD
BEGIN:DAYLIGHT
TZOFFSETFROM:+0100
TZOFFSETTO:+0200
TZNAME:CEST
DTSTART:20210328T010000
END:DAYLIGHT
BEGIN:STANDARD
TZOFFSETFROM:+0200
TZOFFSETTO:+0100
TZNAME:CET
DTSTART:20211031T010000
END:STANDARD
BEGIN:DAYLIGHT
TZOFFSETFROM:+0100
TZOFFSETTO:+0200
TZNAME:CEST
DTSTART:20220327T010000
END:DAYLIGHT
BEGIN:STANDARD
TZOFFSETFROM:+0200
TZOFFSETTO:+0100
TZNAME:CET
DTSTART:20221030T010000
END:STANDARD
END:VTIMEZONE
BEGIN:VEVENT
DTSTART;TZID=Europe/Berlin:20211121T163000
DTEND;TZID=Europe/Berlin:20211121T180000
DTSTAMP:20260423T075650
CREATED:20211014T154605Z
LAST-MODIFIED:20211014T154605Z
UID:10001197-1637512200-1637517600@www.evangelisationsteam.de
SUMMARY:EVANGELISATION
DESCRIPTION:LUTZ SCHEUFLER
URL:https://www.evangelisationsteam.de/termin/evangelisation-65/
LOCATION:LKG GÖRLITZ\, Gartenstraße 7\, GÖRLITZ\, 02826
ATTACH;FMTTYPE=image/jpeg:https://www.evangelisationsteam.de/wp-content/uploads/2021/11/2021-11UeBERLebenTage-mit-Lutz-Scheufler.jpg
END:VEVENT
BEGIN:VEVENT
DTSTART;TZID=Europe/Berlin:20211120T193000
DTEND;TZID=Europe/Berlin:20211120T193000
DTSTAMP:20260423T075650
CREATED:20211014T154436Z
LAST-MODIFIED:20211014T154436Z
UID:10001195-1637436600-1637436600@www.evangelisationsteam.de
SUMMARY:Evangelisation
DESCRIPTION:LUTZ SCHEUFLER
URL:https://www.evangelisationsteam.de/termin/evangelisation-64/
LOCATION:LKG GÖRLITZ\, Gartenstraße 7\, GÖRLITZ\, 02826
ATTACH;FMTTYPE=image/jpeg:https://www.evangelisationsteam.de/wp-content/uploads/2021/11/2021-11UeBERLebenTage-mit-Lutz-Scheufler.jpg
END:VEVENT
BEGIN:VEVENT
DTSTART;TZID=Europe/Berlin:20211117T163000
DTEND;TZID=Europe/Berlin:20211117T180000
DTSTAMP:20260423T075650
CREATED:20210623T095146Z
LAST-MODIFIED:20210705T090000Z
UID:10001163-1637166600-1637172000@www.evangelisationsteam.de
SUMMARY:GEMEINSCHAFTSSTUNDE
DESCRIPTION:LUTZ SCHEUFLER
URL:https://www.evangelisationsteam.de/termin/gemeinschaftsstunde-9/
LOCATION:LKG GÖRLITZ\, Gartenstraße 7\, GÖRLITZ\, 02826
ATTACH;FMTTYPE=image/jpeg:https://www.evangelisationsteam.de/wp-content/uploads/2020/03/Bräuer-1458.jpeg
END:VEVENT
END:VCALENDAR