BEGIN:VCALENDAR
VERSION:2.0
PRODID:-//evangelisationsteam.de - ECPv6.15.20//NONSGML v1.0//EN
CALSCALE:GREGORIAN
METHOD:PUBLISH
X-ORIGINAL-URL:https://www.evangelisationsteam.de
X-WR-CALDESC:Veranstaltungen für evangelisationsteam.de
REFRESH-INTERVAL;VALUE=DURATION:PT1H
X-Robots-Tag:noindex
X-PUBLISHED-TTL:PT1H
BEGIN:VTIMEZONE
TZID:Europe/Berlin
BEGIN:DAYLIGHT
TZOFFSETFROM:+0100
TZOFFSETTO:+0200
TZNAME:CEST
DTSTART:20210328T010000
END:DAYLIGHT
BEGIN:STANDARD
TZOFFSETFROM:+0200
TZOFFSETTO:+0100
TZNAME:CET
DTSTART:20211031T010000
END:STANDARD
BEGIN:DAYLIGHT
TZOFFSETFROM:+0100
TZOFFSETTO:+0200
TZNAME:CEST
DTSTART:20220327T010000
END:DAYLIGHT
BEGIN:STANDARD
TZOFFSETFROM:+0200
TZOFFSETTO:+0100
TZNAME:CET
DTSTART:20221030T010000
END:STANDARD
BEGIN:DAYLIGHT
TZOFFSETFROM:+0100
TZOFFSETTO:+0200
TZNAME:CEST
DTSTART:20230326T010000
END:DAYLIGHT
BEGIN:STANDARD
TZOFFSETFROM:+0200
TZOFFSETTO:+0100
TZNAME:CET
DTSTART:20231029T010000
END:STANDARD
END:VTIMEZONE
BEGIN:VEVENT
DTSTART;TZID=Europe/Berlin:20220220T100000
DTEND;TZID=Europe/Berlin:20220220T110000
DTSTAMP:20260421T133352
CREATED:20220121T075540Z
LAST-MODIFIED:20220128T140140Z
UID:10001892-1645351200-1645354800@www.evangelisationsteam.de
SUMMARY:DER ANDERE GOTTESDIENST
DESCRIPTION:GUNTRAM WURST
URL:https://www.evangelisationsteam.de/termin/gottesdienst-143/
LOCATION:Lu­ther­kir­che Wilkau-Hasslau\, Kirchstraße 27\, Wilkau-Hasslau\, 08112
ATTACH;FMTTYPE=image/jpeg:https://www.evangelisationsteam.de/wp-content/uploads/2020/12/P1030574-scaled.jpg
ORGANIZER;CN="Ev.-Luth. Kirchgemeinde Wilkau-Hasslau":MAILTO:kg.wilkau_hasslau_luther@evlks.de
END:VEVENT
END:VCALENDAR