BEGIN:VCALENDAR
VERSION:2.0
PRODID:-//evangelisationsteam.de - ECPv6.15.20//NONSGML v1.0//EN
CALSCALE:GREGORIAN
METHOD:PUBLISH
X-WR-CALNAME:evangelisationsteam.de
X-ORIGINAL-URL:https://www.evangelisationsteam.de
X-WR-CALDESC:Veranstaltungen für evangelisationsteam.de
REFRESH-INTERVAL;VALUE=DURATION:PT1H
X-Robots-Tag:noindex
X-PUBLISHED-TTL:PT1H
BEGIN:VTIMEZONE
TZID:UTC
BEGIN:STANDARD
TZOFFSETFROM:+0000
TZOFFSETTO:+0000
TZNAME:UTC
DTSTART:20170101T000000
END:STANDARD
END:VTIMEZONE
BEGIN:VEVENT
DTSTART;TZID=UTC:20180525T093000
DTEND;TZID=UTC:20180525T140000
DTSTAMP:20260419T225741
CREATED:20180403T131213Z
LAST-MODIFIED:20180403T131213Z
UID:10000765-1527240600-1527256800@www.evangelisationsteam.de
SUMMARY:MUTTIKREIS
DESCRIPTION:DR. CHRISTA-MARIA STEINBERG
URL:https://www.evangelisationsteam.de/termin/muttikreis/
LOCATION:Ot­ten­dorf-Okril­la AULA\, Radebergerstr. 23\, Ottendorf-Okrilla\, 01458
END:VEVENT
END:VCALENDAR