BEGIN:VCALENDAR
VERSION:2.0
PRODID:-//evangelisationsteam.de - ECPv6.15.20//NONSGML v1.0//EN
CALSCALE:GREGORIAN
METHOD:PUBLISH
X-WR-CALNAME:evangelisationsteam.de
X-ORIGINAL-URL:https://www.evangelisationsteam.de
X-WR-CALDESC:Veranstaltungen für evangelisationsteam.de
REFRESH-INTERVAL;VALUE=DURATION:PT1H
X-Robots-Tag:noindex
X-PUBLISHED-TTL:PT1H
BEGIN:VTIMEZONE
TZID:UTC
BEGIN:STANDARD
TZOFFSETFROM:+0000
TZOFFSETTO:+0000
TZNAME:UTC
DTSTART:20140101T000000
END:STANDARD
END:VTIMEZONE
BEGIN:VEVENT
DTSTART;TZID=UTC:20150614T140000
DTEND;TZID=UTC:20150614T193000
DTSTAMP:20260419T181558
CREATED:20150529T120237Z
LAST-MODIFIED:20150529T120237Z
UID:10000524-1434290400-1434310200@www.evangelisationsteam.de
SUMMARY:Sommerfest\, Tellerhäuser
DESCRIPTION:Mi­cha­el Kauf­mann Pla­kat Sommerfest
URL:https://www.evangelisationsteam.de/termin/sommerfest-tellerhaeuser-3/
LOCATION:Park­an­la­ge\, Dorfhaus\, Tellerhäuser\, 08359
END:VEVENT
BEGIN:VEVENT
DTSTART;TZID=UTC:20150614T140000
DTEND;TZID=UTC:20150614T193000
DTSTAMP:20260419T181558
CREATED:20150529T120237Z
LAST-MODIFIED:20150529T120237Z
UID:10000525-1434290400-1434310200@www.evangelisationsteam.de
SUMMARY:Sommerfest\, Tellerhäuser
DESCRIPTION:Mi­cha­el Kauf­mann Pla­kat Sommerfest
URL:https://www.evangelisationsteam.de/termin/sommerfest-tellerhaeuser-2/
LOCATION:Park­an­la­ge\, Dorfhaus\, Tellerhäuser\, 08359
END:VEVENT
BEGIN:VEVENT
DTSTART;TZID=UTC:20150614T140000
DTEND;TZID=UTC:20150614T193000
DTSTAMP:20260419T181558
CREATED:20150529T120237Z
LAST-MODIFIED:20150529T120237Z
UID:10000599-1434290400-1434310200@www.evangelisationsteam.de
SUMMARY:Sommerfest\, Tellerhäuser
DESCRIPTION:Mi­cha­el Kauf­mann Pla­kat Sommerfest
URL:https://www.evangelisationsteam.de/termin/sommerfest-tellerhaeuser/
LOCATION:Park­an­la­ge\, Dorfhaus\, Tellerhäuser\, 08359
END:VEVENT
END:VCALENDAR