BEGIN:VCALENDAR
VERSION:2.0
PRODID:-//evangelisationsteam.de - ECPv6.15.20//NONSGML v1.0//EN
CALSCALE:GREGORIAN
METHOD:PUBLISH
X-ORIGINAL-URL:https://www.evangelisationsteam.de
X-WR-CALDESC:Veranstaltungen für evangelisationsteam.de
REFRESH-INTERVAL;VALUE=DURATION:PT1H
X-Robots-Tag:noindex
X-PUBLISHED-TTL:PT1H
BEGIN:VTIMEZONE
TZID:Europe/Berlin
BEGIN:DAYLIGHT
TZOFFSETFROM:+0100
TZOFFSETTO:+0200
TZNAME:CEST
DTSTART:20190331T010000
END:DAYLIGHT
BEGIN:STANDARD
TZOFFSETFROM:+0200
TZOFFSETTO:+0100
TZNAME:CET
DTSTART:20191027T010000
END:STANDARD
BEGIN:DAYLIGHT
TZOFFSETFROM:+0100
TZOFFSETTO:+0200
TZNAME:CEST
DTSTART:20200329T010000
END:DAYLIGHT
BEGIN:STANDARD
TZOFFSETFROM:+0200
TZOFFSETTO:+0100
TZNAME:CET
DTSTART:20201025T010000
END:STANDARD
BEGIN:DAYLIGHT
TZOFFSETFROM:+0100
TZOFFSETTO:+0200
TZNAME:CEST
DTSTART:20210328T010000
END:DAYLIGHT
BEGIN:STANDARD
TZOFFSETFROM:+0200
TZOFFSETTO:+0100
TZNAME:CET
DTSTART:20211031T010000
END:STANDARD
BEGIN:DAYLIGHT
TZOFFSETFROM:+0100
TZOFFSETTO:+0200
TZNAME:CEST
DTSTART:20220327T010000
END:DAYLIGHT
BEGIN:STANDARD
TZOFFSETFROM:+0200
TZOFFSETTO:+0100
TZNAME:CET
DTSTART:20221030T010000
END:STANDARD
BEGIN:DAYLIGHT
TZOFFSETFROM:+0100
TZOFFSETTO:+0200
TZNAME:CEST
DTSTART:20230326T010000
END:DAYLIGHT
BEGIN:STANDARD
TZOFFSETFROM:+0200
TZOFFSETTO:+0100
TZNAME:CET
DTSTART:20231029T010000
END:STANDARD
BEGIN:DAYLIGHT
TZOFFSETFROM:+0100
TZOFFSETTO:+0200
TZNAME:CEST
DTSTART:20240331T010000
END:DAYLIGHT
BEGIN:STANDARD
TZOFFSETFROM:+0200
TZOFFSETTO:+0100
TZNAME:CET
DTSTART:20241027T010000
END:STANDARD
END:VTIMEZONE
BEGIN:VTIMEZONE
TZID:UTC
BEGIN:STANDARD
TZOFFSETFROM:+0000
TZOFFSETTO:+0000
TZNAME:UTC
DTSTART:20180101T000000
END:STANDARD
END:VTIMEZONE
BEGIN:VEVENT
DTSTART;TZID=Europe/Berlin:20231224T153000
DTEND;TZID=Europe/Berlin:20231224T170000
DTSTAMP:20260426T004812
CREATED:20230323T104517Z
LAST-MODIFIED:20230323T104517Z
UID:10003330-1703431800-1703437200@www.evangelisationsteam.de
SUMMARY:Christvesper in Vielau
DESCRIPTION:
URL:https://www.evangelisationsteam.de/termin/christvesper-in-vielau-7/
LOCATION:Pe­ter und Paul Kir­che Vielau\, Kirchplatz\, Reinsdorf OT Vielau\, 08141
END:VEVENT
BEGIN:VEVENT
DTSTART;TZID=Europe/Berlin:20231210T100000
DTEND;TZID=Europe/Berlin:20231210T113000
DTSTAMP:20260426T004812
CREATED:20230323T104342Z
LAST-MODIFIED:20230323T104342Z
UID:10003329-1702202400-1702207800@www.evangelisationsteam.de
SUMMARY:Gottesdienst in Vielau
DESCRIPTION:
URL:https://www.evangelisationsteam.de/termin/gottesdienst-in-vielau-18/
LOCATION:Pe­ter und Paul Kir­che Vielau\, Kirchplatz\, Reinsdorf OT Vielau\, 08141
END:VEVENT
BEGIN:VEVENT
DTSTART;TZID=Europe/Berlin:20231126T100000
DTEND;TZID=Europe/Berlin:20231126T113000
DTSTAMP:20260426T004812
CREATED:20230323T104218Z
LAST-MODIFIED:20230323T104218Z
UID:10003328-1700992800-1700998200@www.evangelisationsteam.de
SUMMARY:Gottesdienst in Vielau
DESCRIPTION:
URL:https://www.evangelisationsteam.de/termin/gottesdienst-in-vielau-17/
LOCATION:Pe­ter und Paul Kir­che Vielau\, Kirchplatz\, Reinsdorf OT Vielau\, 08141
END:VEVENT
BEGIN:VEVENT
DTSTART;TZID=Europe/Berlin:20230409T100000
DTEND;TZID=Europe/Berlin:20230409T113000
DTSTAMP:20260426T004812
CREATED:20221202T105247Z
LAST-MODIFIED:20230404T092750Z
UID:10002847-1681034400-1681039800@www.evangelisationsteam.de
SUMMARY:Osterfestgottesdienst in Vielau
DESCRIPTION:
URL:https://www.evangelisationsteam.de/termin/osterfestgottesdienst-in-vielau-2/
LOCATION:Pe­ter und Paul Kir­che Vielau\, Kirchplatz\, Reinsdorf OT Vielau\, 08141
END:VEVENT
BEGIN:VEVENT
DTSTART;TZID=Europe/Berlin:20230322T193000
DTEND;TZID=Europe/Berlin:20230322T210000
DTSTAMP:20260426T004812
CREATED:20230317T103639Z
LAST-MODIFIED:20230317T103639Z
UID:10003305-1679513400-1679518800@www.evangelisationsteam.de
SUMMARY:Bibelabend in Vielau
DESCRIPTION:
URL:https://www.evangelisationsteam.de/termin/bibelabend-in-vielau/
LOCATION:Pe­ter und Paul Kir­che Vielau\, Kirchplatz\, Reinsdorf OT Vielau\, 08141
END:VEVENT
BEGIN:VEVENT
DTSTART;TZID=Europe/Berlin:20230312T100000
DTEND;TZID=Europe/Berlin:20230312T113000
DTSTAMP:20260426T004812
CREATED:20221202T103647Z
LAST-MODIFIED:20221202T103647Z
UID:10002843-1678615200-1678620600@www.evangelisationsteam.de
SUMMARY:Gottesdienst in Vielau
DESCRIPTION:
URL:https://www.evangelisationsteam.de/termin/gottesdienst-in-vielau-16/
LOCATION:Pe­ter und Paul Kir­che Vielau\, Kirchplatz\, Reinsdorf OT Vielau\, 08141
END:VEVENT
BEGIN:VEVENT
DTSTART;TZID=Europe/Berlin:20230129T100000
DTEND;TZID=Europe/Berlin:20230129T113000
DTSTAMP:20260426T004812
CREATED:20221202T103018Z
LAST-MODIFIED:20221202T103018Z
UID:10002841-1674986400-1674991800@www.evangelisationsteam.de
SUMMARY:Gottesdienst in Vielau
DESCRIPTION:
URL:https://www.evangelisationsteam.de/termin/gottesdienst-in-vielau-15/
LOCATION:Pe­ter und Paul Kir­che Vielau\, Kirchplatz\, Reinsdorf OT Vielau\, 08141
END:VEVENT
BEGIN:VEVENT
DTSTART;TZID=UTC:20221224T200000
DTEND;TZID=UTC:20221224T213000
DTSTAMP:20260426T004812
CREATED:20220728T092500Z
LAST-MODIFIED:20220728T092500Z
UID:10002036-1671912000-1671917400@www.evangelisationsteam.de
SUMMARY:Christvesper in Vielau
DESCRIPTION:
URL:https://www.evangelisationsteam.de/termin/christvesper-in-vielau-6/
LOCATION:Pe­ter und Paul Kir­che Vielau\, Kirchplatz\, Reinsdorf OT Vielau\, 08141
END:VEVENT
BEGIN:VEVENT
DTSTART;TZID=UTC:20221224T153000
DTEND;TZID=UTC:20221224T170000
DTSTAMP:20260426T004812
CREATED:20220728T092403Z
LAST-MODIFIED:20220728T092403Z
UID:10002035-1671895800-1671901200@www.evangelisationsteam.de
SUMMARY:Christvesper in Vielau
DESCRIPTION:
URL:https://www.evangelisationsteam.de/termin/christvesper-in-vielau-5/
LOCATION:Pe­ter und Paul Kir­che Vielau\, Kirchplatz\, Reinsdorf OT Vielau\, 08141
END:VEVENT
BEGIN:VEVENT
DTSTART;TZID=UTC:20221211T100000
DTEND;TZID=UTC:20221211T113000
DTSTAMP:20260426T004812
CREATED:20220728T092234Z
LAST-MODIFIED:20221209T103410Z
UID:10002034-1670752800-1670758200@www.evangelisationsteam.de
SUMMARY:Gottesdienst in Vielau
DESCRIPTION:
URL:https://www.evangelisationsteam.de/termin/gottesdienst-in-vielau-14/
LOCATION:Pe­ter und Paul Kir­che Vielau\, Kirchplatz\, Reinsdorf OT Vielau\, 08141
END:VEVENT
BEGIN:VEVENT
DTSTART;TZID=UTC:20221120T100000
DTEND;TZID=UTC:20221120T113000
DTSTAMP:20260426T004812
CREATED:20220728T092014Z
LAST-MODIFIED:20220728T092050Z
UID:10002033-1668938400-1668943800@www.evangelisationsteam.de
SUMMARY:Gottesdienst in Vielau
DESCRIPTION:
URL:https://www.evangelisationsteam.de/termin/gottesdienst-in-vielau-13/
LOCATION:Pe­ter und Paul Kir­che Vielau\, Kirchplatz\, Reinsdorf OT Vielau\, 08141
END:VEVENT
BEGIN:VEVENT
DTSTART;TZID=Europe/Berlin:20220417T100000
DTEND;TZID=Europe/Berlin:20220417T110000
DTSTAMP:20260426T004812
CREATED:20220209T104607Z
LAST-MODIFIED:20220416T120723Z
UID:10001246-1650189600-1650193200@www.evangelisationsteam.de
SUMMARY:Osterfestgottesdienst in Vielau
DESCRIPTION:
URL:https://www.evangelisationsteam.de/termin/osterfestgottesdienst-in-vielau/
LOCATION:Pe­ter und Paul Kir­che Vielau\, Kirchplatz\, Reinsdorf OT Vielau\, 08141
END:VEVENT
BEGIN:VEVENT
DTSTART;TZID=Europe/Berlin:20220327T100000
DTEND;TZID=Europe/Berlin:20220327T110000
DTSTAMP:20260426T004812
CREATED:20220103T101127Z
LAST-MODIFIED:20220209T103740Z
UID:10001227-1648375200-1648378800@www.evangelisationsteam.de
SUMMARY:Gottesdienst zum Beginn der Bibelwoche in Vielau
DESCRIPTION:
URL:https://www.evangelisationsteam.de/termin/gottesdienst-zum-beginn-der-bibelwoche-in-vielau/
LOCATION:Pe­ter und Paul Kir­che Vielau\, Kirchplatz\, Reinsdorf OT Vielau\, 08141
END:VEVENT
BEGIN:VEVENT
DTSTART;TZID=UTC:20220320T100000
DTEND;TZID=UTC:20220320T113000
DTSTAMP:20260426T004812
CREATED:20220319T112738Z
LAST-MODIFIED:20220319T112738Z
UID:10001942-1647770400-1647775800@www.evangelisationsteam.de
SUMMARY:Gottesdienst Vielau
DESCRIPTION:
URL:https://www.evangelisationsteam.de/termin/gottesdienst-vielau-15/
LOCATION:Pe­ter und Paul Kir­che Vielau\, Kirchplatz\, Reinsdorf OT Vielau\, 08141
END:VEVENT
BEGIN:VEVENT
DTSTART;TZID=Europe/Berlin:20220123T100000
DTEND;TZID=Europe/Berlin:20220123T110000
DTSTAMP:20260426T004812
CREATED:20220123T090000Z
LAST-MODIFIED:20220121T110628Z
UID:10001909-1642932000-1642935600@www.evangelisationsteam.de
SUMMARY:Gottesdienst Vielau
DESCRIPTION:
URL:https://www.evangelisationsteam.de/termin/gottesdienst-vielau-14/
LOCATION:Pe­ter und Paul Kir­che Vielau\, Kirchplatz\, Reinsdorf OT Vielau\, 08141
END:VEVENT
BEGIN:VEVENT
DTSTART;TZID=Europe/Berlin:20220109T100000
DTEND;TZID=Europe/Berlin:20220109T110000
DTSTAMP:20260426T004812
CREATED:20220109T090000Z
LAST-MODIFIED:20220113T170407Z
UID:10001229-1641722400-1641726000@www.evangelisationsteam.de
SUMMARY:Gottesdienst in Vielau
DESCRIPTION:
URL:https://www.evangelisationsteam.de/termin/gottesdienst-vielau-13/
LOCATION:Pe­ter und Paul Kir­che Vielau\, Kirchplatz\, Reinsdorf OT Vielau\, 08141
END:VEVENT
BEGIN:VEVENT
DTSTART;TZID=Europe/Berlin:20210620T100000
DTEND;TZID=Europe/Berlin:20210620T113000
DTSTAMP:20260426T004812
CREATED:20210614T083718Z
LAST-MODIFIED:20210617T082634Z
UID:10001135-1624183200-1624188600@www.evangelisationsteam.de
SUMMARY:Gottesdienst in Vielau
DESCRIPTION:
URL:https://www.evangelisationsteam.de/termin/gottesdienst-in-vielau-12/
LOCATION:Pe­ter und Paul Kir­che Vielau\, Kirchplatz\, Reinsdorf OT Vielau\, 08141
END:VEVENT
BEGIN:VEVENT
DTSTART;TZID=Europe/Berlin:20210404T100000
DTEND;TZID=Europe/Berlin:20210404T113000
DTSTAMP:20260426T004812
CREATED:20210122T084606Z
LAST-MODIFIED:20210401T142510Z
UID:10001113-1617530400-1617535800@www.evangelisationsteam.de
SUMMARY:Osterfestgottesdienst Vielau
DESCRIPTION:
URL:https://www.evangelisationsteam.de/termin/osterfestgottesdienst-vielau-2/
LOCATION:Pe­ter und Paul Kir­che Vielau\, Kirchplatz\, Reinsdorf OT Vielau\, 08141
END:VEVENT
BEGIN:VEVENT
DTSTART;TZID=Europe/Berlin:20210314T100000
DTEND;TZID=Europe/Berlin:20210314T110000
DTSTAMP:20260426T004812
CREATED:20210122T083222Z
LAST-MODIFIED:20210122T083222Z
UID:10001109-1615716000-1615719600@www.evangelisationsteam.de
SUMMARY:Gottesdienst Vielau
DESCRIPTION:
URL:https://www.evangelisationsteam.de/termin/gottesdienst-vielau-9/
LOCATION:Pe­ter und Paul Kir­che Vielau\, Kirchplatz\, Reinsdorf OT Vielau\, 08141
END:VEVENT
BEGIN:VEVENT
DTSTART;TZID=Europe/Berlin:20201224T200000
DTEND;TZID=Europe/Berlin:20201224T213000
DTSTAMP:20260426T004812
CREATED:20200113T102038Z
LAST-MODIFIED:20200113T102038Z
UID:10001705-1608840000-1608845400@www.evangelisationsteam.de
SUMMARY:Christvesper Vielau
DESCRIPTION:
URL:https://www.evangelisationsteam.de/termin/christvesper-vielau/
LOCATION:Pe­ter und Paul Kir­che Vielau\, Kirchplatz\, Reinsdorf OT Vielau\, 08141
END:VEVENT
BEGIN:VEVENT
DTSTART;TZID=Europe/Berlin:20201224T153000
DTEND;TZID=Europe/Berlin:20201224T170000
DTSTAMP:20260426T004812
CREATED:20200113T101921Z
LAST-MODIFIED:20200113T101921Z
UID:10001704-1608823800-1608829200@www.evangelisationsteam.de
SUMMARY:Christivesper Vielau
DESCRIPTION:
URL:https://www.evangelisationsteam.de/termin/christivesper-vielau/
LOCATION:Pe­ter und Paul Kir­che Vielau\, Kirchplatz\, Reinsdorf OT Vielau\, 08141
END:VEVENT
BEGIN:VEVENT
DTSTART;TZID=Europe/Berlin:20201213T100000
DTEND;TZID=Europe/Berlin:20201213T113000
DTSTAMP:20260426T004812
CREATED:20200113T101758Z
LAST-MODIFIED:20200113T101758Z
UID:10001703-1607853600-1607859000@www.evangelisationsteam.de
SUMMARY:Gottesdienst Vielau
DESCRIPTION:
URL:https://www.evangelisationsteam.de/termin/gottesdienst-vielau-12/
LOCATION:Pe­ter und Paul Kir­che Vielau\, Kirchplatz\, Reinsdorf OT Vielau\, 08141
END:VEVENT
BEGIN:VEVENT
DTSTART;TZID=Europe/Berlin:20201122T100000
DTEND;TZID=Europe/Berlin:20201122T113000
DTSTAMP:20260426T004812
CREATED:20200113T101433Z
LAST-MODIFIED:20200113T101433Z
UID:10001701-1606039200-1606044600@www.evangelisationsteam.de
SUMMARY:Gottesdienst Vielau
DESCRIPTION:
URL:https://www.evangelisationsteam.de/termin/gottesdienst-vielau-11/
LOCATION:Pe­ter und Paul Kir­che Vielau\, Kirchplatz\, Reinsdorf OT Vielau\, 08141
END:VEVENT
BEGIN:VEVENT
DTSTART;TZID=Europe/Berlin:20200412T100000
DTEND;TZID=Europe/Berlin:20200412T113000
DTSTAMP:20260426T004812
CREATED:20200110T103820Z
LAST-MODIFIED:20200110T103820Z
UID:10001020-1586685600-1586691000@www.evangelisationsteam.de
SUMMARY:Osterfestgottesdienst Vielau
DESCRIPTION:
URL:https://www.evangelisationsteam.de/termin/osterfestgottesdienst-vielau/
LOCATION:Pe­ter und Paul Kir­che Vielau\, Kirchplatz\, Reinsdorf OT Vielau\, 08141
END:VEVENT
BEGIN:VEVENT
DTSTART;TZID=Europe/Berlin:20200322T100000
DTEND;TZID=Europe/Berlin:20200322T113000
DTSTAMP:20260426T004812
CREATED:20200110T103021Z
LAST-MODIFIED:20200110T103021Z
UID:10001697-1584871200-1584876600@www.evangelisationsteam.de
SUMMARY:Gottesdienst Vielau
DESCRIPTION:
URL:https://www.evangelisationsteam.de/termin/gottesdienst-vielau-8/
LOCATION:Pe­ter und Paul Kir­che Vielau\, Kirchplatz\, Reinsdorf OT Vielau\, 08141
END:VEVENT
BEGIN:VEVENT
DTSTART;TZID=Europe/Berlin:20200126T100000
DTEND;TZID=Europe/Berlin:20200126T113000
DTSTAMP:20260426T004812
CREATED:20200110T094553Z
LAST-MODIFIED:20200110T094553Z
UID:10001690-1580032800-1580038200@www.evangelisationsteam.de
SUMMARY:Gottesdienst Vielau
DESCRIPTION:
URL:https://www.evangelisationsteam.de/termin/gottesdienst-vielau-7/
LOCATION:Pe­ter und Paul Kir­che Vielau\, Kirchplatz\, Reinsdorf OT Vielau\, 08141
END:VEVENT
BEGIN:VEVENT
DTSTART;TZID=UTC:20191224T200000
DTEND;TZID=UTC:20191224T213000
DTSTAMP:20260426T004812
CREATED:20190820T074903Z
LAST-MODIFIED:20191216T161723Z
UID:10001668-1577217600-1577223000@www.evangelisationsteam.de
SUMMARY:Christvesper in Vielau
DESCRIPTION:
URL:https://www.evangelisationsteam.de/termin/christvesper-in-vielau-4/
LOCATION:Pe­ter und Paul Kir­che Vielau\, Kirchplatz\, Reinsdorf OT Vielau\, 08141
ATTACH;FMTTYPE=image/jpeg:https://www.evangelisationsteam.de/wp-content/uploads/2019/12/Verkündigung-001.jpeg
END:VEVENT
BEGIN:VEVENT
DTSTART;TZID=UTC:20191224T153000
DTEND;TZID=UTC:20191224T170000
DTSTAMP:20260426T004812
CREATED:20190820T074800Z
LAST-MODIFIED:20191205T103516Z
UID:10001667-1577201400-1577206800@www.evangelisationsteam.de
SUMMARY:Christvesper in Vielau
DESCRIPTION:
URL:https://www.evangelisationsteam.de/termin/christvesper-in-vielau-2/
LOCATION:Pe­ter und Paul Kir­che Vielau\, Kirchplatz\, Reinsdorf OT Vielau\, 08141
END:VEVENT
BEGIN:VEVENT
DTSTART;TZID=UTC:20191215T100000
DTEND;TZID=UTC:20191215T113000
DTSTAMP:20260426T004812
CREATED:20190820T074635Z
LAST-MODIFIED:20191105T164922Z
UID:10000995-1576404000-1576409400@www.evangelisationsteam.de
SUMMARY:Gottesdienst in Vielau
DESCRIPTION:
URL:https://www.evangelisationsteam.de/termin/gottesdienst-in-vielau-10/
LOCATION:Pe­ter und Paul Kir­che Vielau\, Kirchplatz\, Reinsdorf OT Vielau\, 08141
END:VEVENT
BEGIN:VEVENT
DTSTART;TZID=UTC:20191124T100000
DTEND;TZID=UTC:20191124T113000
DTSTAMP:20260426T004812
CREATED:20190820T074127Z
LAST-MODIFIED:20191105T165333Z
UID:10000992-1574589600-1574595000@www.evangelisationsteam.de
SUMMARY:Gottesdienst in Vielau
DESCRIPTION:
URL:https://www.evangelisationsteam.de/termin/gottesdienst-in-vielau-9/
LOCATION:Pe­ter und Paul Kir­che Vielau\, Kirchplatz\, Reinsdorf OT Vielau\, 08141
ATTACH;FMTTYPE=image/jpeg:https://www.evangelisationsteam.de/wp-content/uploads/2019/07/P1020902.jpeg
END:VEVENT
END:VCALENDAR