BEGIN:VCALENDAR
VERSION:2.0
PRODID:-//evangelisationsteam.de - ECPv6.15.20//NONSGML v1.0//EN
CALSCALE:GREGORIAN
METHOD:PUBLISH
X-ORIGINAL-URL:https://www.evangelisationsteam.de
X-WR-CALDESC:Veranstaltungen für evangelisationsteam.de
REFRESH-INTERVAL;VALUE=DURATION:PT1H
X-Robots-Tag:noindex
X-PUBLISHED-TTL:PT1H
BEGIN:VTIMEZONE
TZID:UTC
BEGIN:STANDARD
TZOFFSETFROM:+0000
TZOFFSETTO:+0000
TZNAME:UTC
DTSTART:20140101T000000
END:STANDARD
END:VTIMEZONE
BEGIN:VEVENT
DTSTART;TZID=UTC:20190422T100000
DTEND;TZID=UTC:20190422T113000
DTSTAMP:20260426T054156
CREATED:20181214T152432Z
LAST-MODIFIED:20181214T152432Z
UID:10001565-1555927200-1555932600@www.evangelisationsteam.de
SUMMARY:Gottesdienst in Vielau
DESCRIPTION:
URL:https://www.evangelisationsteam.de/termin/gottesdienst-in-vielau-8/
LOCATION:Pe­ter und Paul Kir­che Vielau\, Kirchplatz\, Reinsdorf OT Vielau\, 08141
END:VEVENT
BEGIN:VEVENT
DTSTART;TZID=UTC:20190421T100000
DTEND;TZID=UTC:20190421T113000
DTSTAMP:20260426T054156
CREATED:20181214T152314Z
LAST-MODIFIED:20181214T152314Z
UID:10000902-1555840800-1555846200@www.evangelisationsteam.de
SUMMARY:Ostergottesdienst in Vielau
DESCRIPTION:
URL:https://www.evangelisationsteam.de/termin/ostergottesdienst-in-vielau/
LOCATION:Pe­ter und Paul Kir­che Vielau\, Kirchplatz\, Reinsdorf OT Vielau\, 08141
END:VEVENT
BEGIN:VEVENT
DTSTART;TZID=UTC:20190324T100000
DTEND;TZID=UTC:20190324T113000
DTSTAMP:20260426T054156
CREATED:20181214T145012Z
LAST-MODIFIED:20181214T145012Z
UID:10000889-1553421600-1553427000@www.evangelisationsteam.de
SUMMARY:Gottesdienst in Vielau
DESCRIPTION:
URL:https://www.evangelisationsteam.de/termin/gottesdienst-in-vielau-7/
LOCATION:Pe­ter und Paul Kir­che Vielau\, Kirchplatz\, Reinsdorf OT Vielau\, 08141
END:VEVENT
BEGIN:VEVENT
DTSTART;TZID=UTC:20190127T100000
DTEND;TZID=UTC:20190127T113000
DTSTAMP:20260426T054156
CREATED:20181214T143932Z
LAST-MODIFIED:20181214T143932Z
UID:10000884-1548583200-1548588600@www.evangelisationsteam.de
SUMMARY:Gottesdienst in Vielau
DESCRIPTION:
URL:https://www.evangelisationsteam.de/termin/gottesdienst-in-vielau-6/
LOCATION:Pe­ter und Paul Kir­che Vielau\, Kirchplatz\, Reinsdorf OT Vielau\, 08141
END:VEVENT
BEGIN:VEVENT
DTSTART;TZID=UTC:20181224T153000
DTEND;TZID=UTC:20181224T170000
DTSTAMP:20260426T054156
CREATED:20180801T080026Z
LAST-MODIFIED:20180801T080026Z
UID:10001508-1545665400-1545670800@www.evangelisationsteam.de
SUMMARY:Christvesper in Vielau
DESCRIPTION:
URL:https://www.evangelisationsteam.de/termin/christvesper-in-vielau/
LOCATION:Pe­ter und Paul Kir­che Vielau\, Kirchplatz\, Reinsdorf OT Vielau\, 08141
END:VEVENT
BEGIN:VEVENT
DTSTART;TZID=UTC:20181223T100000
DTEND;TZID=UTC:20181223T113000
DTSTAMP:20260426T054156
CREATED:20180801T075937Z
LAST-MODIFIED:20180801T075937Z
UID:10001507-1545559200-1545564600@www.evangelisationsteam.de
SUMMARY:Gottesdienst in Vielau
DESCRIPTION:
URL:https://www.evangelisationsteam.de/termin/gottesdienst-in-vielau-5/
LOCATION:Pe­ter und Paul Kir­che Vielau\, Kirchplatz\, Reinsdorf OT Vielau\, 08141
END:VEVENT
BEGIN:VEVENT
DTSTART;TZID=UTC:20181118T100000
DTEND;TZID=UTC:20181118T113000
DTSTAMP:20260426T054156
CREATED:20180801T074747Z
LAST-MODIFIED:20180801T074747Z
UID:10001502-1542535200-1542540600@www.evangelisationsteam.de
SUMMARY:Gottesdienst in Vielau
DESCRIPTION:
URL:https://www.evangelisationsteam.de/termin/gottesdienst-in-vielau-4/
LOCATION:Pe­ter und Paul Kir­che Vielau\, Kirchplatz\, Reinsdorf OT Vielau\, 08141
END:VEVENT
BEGIN:VEVENT
DTSTART;TZID=UTC:20180402T100000
DTEND;TZID=UTC:20180402T113000
DTSTAMP:20260426T054156
CREATED:20180223T083357Z
LAST-MODIFIED:20180223T083357Z
UID:10001426-1522663200-1522668600@www.evangelisationsteam.de
SUMMARY:Gottesdienst Vielau
DESCRIPTION:
URL:https://www.evangelisationsteam.de/termin/gottesdienst-vielau-6/
LOCATION:Pe­ter und Paul Kir­che Vielau\, Kirchplatz\, Reinsdorf OT Vielau\, 08141
END:VEVENT
BEGIN:VEVENT
DTSTART;TZID=UTC:20180304T100000
DTEND;TZID=UTC:20180304T113000
DTSTAMP:20260426T054156
CREATED:20180223T080421Z
LAST-MODIFIED:20180223T080421Z
UID:10001418-1520157600-1520163000@www.evangelisationsteam.de
SUMMARY:Gottesdienst Vielau
DESCRIPTION:
URL:https://www.evangelisationsteam.de/termin/gottesdienst-vielau-5/
LOCATION:Pe­ter und Paul Kir­che Vielau\, Kirchplatz\, Reinsdorf OT Vielau\, 08141
END:VEVENT
BEGIN:VEVENT
DTSTART;TZID=UTC:20180128T100000
DTEND;TZID=UTC:20180128T113000
DTSTAMP:20260426T054156
CREATED:20171219T102348Z
LAST-MODIFIED:20171219T102348Z
UID:10001404-1517133600-1517139000@www.evangelisationsteam.de
SUMMARY:Gottesdienst in Vielau
DESCRIPTION:
URL:https://www.evangelisationsteam.de/termin/gottesdienst-in-vielau-2/
LOCATION:Pe­ter und Paul Kir­che Vielau\, Kirchplatz\, Reinsdorf OT Vielau\, 08141
END:VEVENT
BEGIN:VEVENT
DTSTART;TZID=UTC:20171217T100000
DTEND;TZID=UTC:20171217T113000
DTSTAMP:20260426T054156
CREATED:20171204T154904Z
LAST-MODIFIED:20171204T154904Z
UID:10000722-1513504800-1513510200@www.evangelisationsteam.de
SUMMARY:Gottesdienst in Vielau
DESCRIPTION:
URL:https://www.evangelisationsteam.de/termin/gottesdienst-in-vielau/
LOCATION:Pe­ter und Paul Kir­che Vielau\, Kirchplatz\, Reinsdorf OT Vielau\, 08141
END:VEVENT
BEGIN:VEVENT
DTSTART;TZID=UTC:20171119T100000
DTEND;TZID=UTC:20171119T113000
DTSTAMP:20260426T054156
CREATED:20171115T100336Z
LAST-MODIFIED:20171115T100336Z
UID:10001358-1511085600-1511091000@www.evangelisationsteam.de
SUMMARY:Gottesdienst Vielau
DESCRIPTION:
URL:https://www.evangelisationsteam.de/termin/gottesdienst-vielau-4/
LOCATION:Pe­ter und Paul Kir­che Vielau\, Kirchplatz\, Reinsdorf OT Vielau\, 08141
END:VEVENT
BEGIN:VEVENT
DTSTART;TZID=UTC:20171015T100000
DTEND;TZID=UTC:20171015T113000
DTSTAMP:20260426T054156
CREATED:20170424T082549Z
LAST-MODIFIED:20170424T082549Z
UID:10001216-1508061600-1508067000@www.evangelisationsteam.de
SUMMARY:Gottesdienst Vielau
DESCRIPTION:
URL:https://www.evangelisationsteam.de/termin/gottesdienst-vielau-2/
LOCATION:Pe­ter und Paul Kir­che Vielau\, Kirchplatz\, Reinsdorf OT Vielau\, 08141
END:VEVENT
BEGIN:VEVENT
DTSTART;TZID=UTC:20170417T100000
DTEND;TZID=UTC:20170417T113000
DTSTAMP:20260426T054156
CREATED:20170224T100520Z
LAST-MODIFIED:20170224T100520Z
UID:10001204-1492423200-1492428600@www.evangelisationsteam.de
SUMMARY:Gottesdienst Vielau
DESCRIPTION:
URL:https://www.evangelisationsteam.de/termin/gottesdienst-vielau/
LOCATION:Pe­ter und Paul Kir­che Vielau\, Kirchplatz\, Reinsdorf OT Vielau\, 08141
END:VEVENT
BEGIN:VEVENT
DTSTART;TZID=UTC:20170326T100000
DTEND;TZID=UTC:20170326T113000
DTSTAMP:20260426T054156
CREATED:20161124T091629Z
LAST-MODIFIED:20161124T091629Z
UID:10000555-1490522400-1490527800@www.evangelisationsteam.de
SUMMARY:Gottesdienst
DESCRIPTION:
URL:https://www.evangelisationsteam.de/termin/gottesdienst-40-3/
LOCATION:Pe­ter und Paul Kir­che Vielau\, Kirchplatz\, Reinsdorf OT Vielau\, 08141
END:VEVENT
BEGIN:VEVENT
DTSTART;TZID=UTC:20170122T100000
DTEND;TZID=UTC:20170122T113000
DTSTAMP:20260426T054156
CREATED:20161124T090332Z
LAST-MODIFIED:20161124T090332Z
UID:10001101-1485079200-1485084600@www.evangelisationsteam.de
SUMMARY:Gottesdienst
DESCRIPTION:
URL:https://www.evangelisationsteam.de/termin/gottesdienst-38-3/
LOCATION:Pe­ter und Paul Kir­che Vielau\, Kirchplatz\, Reinsdorf OT Vielau\, 08141
END:VEVENT
BEGIN:VEVENT
DTSTART;TZID=UTC:20161224T153000
DTEND;TZID=UTC:20161224T170000
DTSTAMP:20260426T054156
CREATED:20160630T084130Z
LAST-MODIFIED:20160630T084130Z
UID:10001025-1482593400-1482598800@www.evangelisationsteam.de
SUMMARY:Christvesper in Vielau
DESCRIPTION:
URL:https://www.evangelisationsteam.de/termin/christvesper-in-vielau-3/
LOCATION:Pe­ter und Paul Kir­che Vielau\, Kirchplatz\, Reinsdorf OT Vielau\, 08141
END:VEVENT
BEGIN:VEVENT
DTSTART;TZID=UTC:20161218T100000
DTEND;TZID=UTC:20161218T113000
DTSTAMP:20260426T054156
CREATED:20160630T084024Z
LAST-MODIFIED:20160630T084024Z
UID:10001023-1482055200-1482060600@www.evangelisationsteam.de
SUMMARY:Gottesdienst in Vielau
DESCRIPTION:
URL:https://www.evangelisationsteam.de/termin/gottesdienst-in-vielau-3/
LOCATION:Pe­ter und Paul Kir­che Vielau\, Kirchplatz\, Reinsdorf OT Vielau\, 08141
END:VEVENT
BEGIN:VEVENT
DTSTART;TZID=UTC:20161113T100000
DTEND;TZID=UTC:20161113T113000
DTSTAMP:20260426T054156
CREATED:20160630T082359Z
LAST-MODIFIED:20160630T082359Z
UID:10000984-1479031200-1479036600@www.evangelisationsteam.de
SUMMARY:Gottesdienst Vielau
DESCRIPTION:
URL:https://www.evangelisationsteam.de/termin/gottesdienst-vielau-3/
LOCATION:Pe­ter und Paul Kir­che Vielau\, Kirchplatz\, Reinsdorf OT Vielau\, 08141
END:VEVENT
BEGIN:VEVENT
DTSTART;TZID=UTC:20160228T100000
DTEND;TZID=UTC:20160228T113000
DTSTAMP:20260426T054156
CREATED:20160106T193521Z
LAST-MODIFIED:20160106T193521Z
UID:10000452-1456653600-1456659000@www.evangelisationsteam.de
SUMMARY:Gottesdienst
DESCRIPTION:
URL:https://www.evangelisationsteam.de/termin/gottesdienst-20/
LOCATION:Pe­ter und Paul Kir­che Vielau\, Kirchplatz\, Reinsdorf OT Vielau\, 08141
END:VEVENT
BEGIN:VEVENT
DTSTART;TZID=UTC:20160228T100000
DTEND;TZID=UTC:20160228T113000
DTSTAMP:20260426T054156
CREATED:20160106T193521Z
LAST-MODIFIED:20160106T193521Z
UID:10000453-1456653600-1456659000@www.evangelisationsteam.de
SUMMARY:Gottesdienst
DESCRIPTION:
URL:https://www.evangelisationsteam.de/termin/gottesdienst-20-2/
LOCATION:Pe­ter und Paul Kir­che Vielau\, Kirchplatz\, Reinsdorf OT Vielau\, 08141
END:VEVENT
BEGIN:VEVENT
DTSTART;TZID=UTC:20160228T100000
DTEND;TZID=UTC:20160228T113000
DTSTAMP:20260426T054156
CREATED:20160106T193521Z
LAST-MODIFIED:20160106T193521Z
UID:10000456-1456653600-1456659000@www.evangelisationsteam.de
SUMMARY:Gottesdienst
DESCRIPTION:
URL:https://www.evangelisationsteam.de/termin/gottesdienst-20-3/
LOCATION:Pe­ter und Paul Kir­che Vielau\, Kirchplatz\, Reinsdorf OT Vielau\, 08141
END:VEVENT
BEGIN:VEVENT
DTSTART;TZID=UTC:20151224T153000
DTEND;TZID=UTC:20151224T170000
DTSTAMP:20260426T054156
CREATED:20151013T082902Z
LAST-MODIFIED:20151013T082902Z
UID:10000385-1450971000-1450976400@www.evangelisationsteam.de
SUMMARY:Christvesper
DESCRIPTION:
URL:https://www.evangelisationsteam.de/termin/christvesper-2/
LOCATION:Pe­ter und Paul Kir­che Vielau\, Kirchplatz\, Reinsdorf OT Vielau\, 08141
END:VEVENT
BEGIN:VEVENT
DTSTART;TZID=UTC:20151224T153000
DTEND;TZID=UTC:20151224T170000
DTSTAMP:20260426T054156
CREATED:20151013T082902Z
LAST-MODIFIED:20151013T082902Z
UID:10000386-1450971000-1450976400@www.evangelisationsteam.de
SUMMARY:Christvesper
DESCRIPTION:
URL:https://www.evangelisationsteam.de/termin/christvesper-3/
LOCATION:Pe­ter und Paul Kir­che Vielau\, Kirchplatz\, Reinsdorf OT Vielau\, 08141
END:VEVENT
BEGIN:VEVENT
DTSTART;TZID=UTC:20151224T153000
DTEND;TZID=UTC:20151224T170000
DTSTAMP:20260426T054156
CREATED:20151013T082902Z
LAST-MODIFIED:20151013T082902Z
UID:10000383-1450971000-1450976400@www.evangelisationsteam.de
SUMMARY:Christvesper
DESCRIPTION:
URL:https://www.evangelisationsteam.de/termin/christvesper/
LOCATION:Pe­ter und Paul Kir­che Vielau\, Kirchplatz\, Reinsdorf OT Vielau\, 08141
END:VEVENT
BEGIN:VEVENT
DTSTART;TZID=UTC:20151220T100000
DTEND;TZID=UTC:20151220T113000
DTSTAMP:20260426T054156
CREATED:20151013T082746Z
LAST-MODIFIED:20151013T082746Z
UID:10000378-1450605600-1450611000@www.evangelisationsteam.de
SUMMARY:Gottesdienst
DESCRIPTION:
URL:https://www.evangelisationsteam.de/termin/gottesdienst-21/
LOCATION:Pe­ter und Paul Kir­che Vielau\, Kirchplatz\, Reinsdorf OT Vielau\, 08141
END:VEVENT
BEGIN:VEVENT
DTSTART;TZID=UTC:20151220T100000
DTEND;TZID=UTC:20151220T113000
DTSTAMP:20260426T054156
CREATED:20151013T082746Z
LAST-MODIFIED:20151013T082746Z
UID:10000379-1450605600-1450611000@www.evangelisationsteam.de
SUMMARY:Gottesdienst
DESCRIPTION:
URL:https://www.evangelisationsteam.de/termin/gottesdienst-21-2/
LOCATION:Pe­ter und Paul Kir­che Vielau\, Kirchplatz\, Reinsdorf OT Vielau\, 08141
END:VEVENT
BEGIN:VEVENT
DTSTART;TZID=UTC:20151220T100000
DTEND;TZID=UTC:20151220T113000
DTSTAMP:20260426T054156
CREATED:20151013T082746Z
LAST-MODIFIED:20151013T082746Z
UID:10000382-1450605600-1450611000@www.evangelisationsteam.de
SUMMARY:Gottesdienst
DESCRIPTION:
URL:https://www.evangelisationsteam.de/termin/gottesdienst-21-3/
LOCATION:Pe­ter und Paul Kir­che Vielau\, Kirchplatz\, Reinsdorf OT Vielau\, 08141
END:VEVENT
BEGIN:VEVENT
DTSTART;TZID=UTC:20150510T100000
DTEND;TZID=UTC:20150510T113000
DTSTAMP:20260426T054156
CREATED:20150409T100903Z
LAST-MODIFIED:20150409T100903Z
UID:10000273-1431252000-1431257400@www.evangelisationsteam.de
SUMMARY:Gottesdienst
DESCRIPTION:
URL:https://www.evangelisationsteam.de/termin/gottesdienst-9-3/
LOCATION:Pe­ter und Paul Kir­che Vielau\, Kirchplatz\, Reinsdorf OT Vielau\, 08141
END:VEVENT
BEGIN:VEVENT
DTSTART;TZID=UTC:20150510T100000
DTEND;TZID=UTC:20150510T113000
DTSTAMP:20260426T054156
CREATED:20150409T100903Z
LAST-MODIFIED:20150409T100903Z
UID:10000277-1431252000-1431257400@www.evangelisationsteam.de
SUMMARY:Gottesdienst
DESCRIPTION:
URL:https://www.evangelisationsteam.de/termin/gottesdienst-9/
LOCATION:Pe­ter und Paul Kir­che Vielau\, Kirchplatz\, Reinsdorf OT Vielau\, 08141
END:VEVENT
END:VCALENDAR