BEGIN:VCALENDAR
VERSION:2.0
PRODID:-//evangelisationsteam.de - ECPv6.15.20//NONSGML v1.0//EN
CALSCALE:GREGORIAN
METHOD:PUBLISH
X-ORIGINAL-URL:https://www.evangelisationsteam.de
X-WR-CALDESC:Veranstaltungen für evangelisationsteam.de
REFRESH-INTERVAL;VALUE=DURATION:PT1H
X-Robots-Tag:noindex
X-PUBLISHED-TTL:PT1H
BEGIN:VTIMEZONE
TZID:UTC
BEGIN:STANDARD
TZOFFSETFROM:+0000
TZOFFSETTO:+0000
TZNAME:UTC
DTSTART:20140101T000000
END:STANDARD
END:VTIMEZONE
BEGIN:VEVENT
DTSTART;TZID=UTC:20151002T200000
DTEND;TZID=UTC:20151002T220000
DTSTAMP:20260424T133734
CREATED:20150528T072513Z
LAST-MODIFIED:20150528T072513Z
UID:10000427-1443816000-1443823200@www.evangelisationsteam.de
SUMMARY:GEMEINDEABEND
DESCRIPTION:DR. CHRISTA-MARIA STEINBERG
URL:https://www.evangelisationsteam.de/termin/gemeindeabend-3-3/
LOCATION:PFARRHAUS\, Kirchgasse 2\, Mülsen/St. Jakob\, 08132
END:VEVENT
BEGIN:VEVENT
DTSTART;TZID=UTC:20151002T200000
DTEND;TZID=UTC:20151002T220000
DTSTAMP:20260424T133734
CREATED:20150528T072513Z
LAST-MODIFIED:20150528T072513Z
UID:10000461-1443816000-1443823200@www.evangelisationsteam.de
SUMMARY:GEMEINDEABEND
DESCRIPTION:DR. CHRISTA-MARIA STEINBERG
URL:https://www.evangelisationsteam.de/termin/gemeindeabend-3-2/
LOCATION:PFARRHAUS\, Kirchgasse 2\, Mülsen/St. Jakob\, 08132
END:VEVENT
BEGIN:VEVENT
DTSTART;TZID=UTC:20151002T200000
DTEND;TZID=UTC:20151002T220000
DTSTAMP:20260424T133734
CREATED:20150528T072513Z
LAST-MODIFIED:20150528T072513Z
UID:10000463-1443816000-1443823200@www.evangelisationsteam.de
SUMMARY:GEMEINDEABEND
DESCRIPTION:DR. CHRISTA-MARIA STEINBERG
URL:https://www.evangelisationsteam.de/termin/gemeindeabend-3/
LOCATION:PFARRHAUS\, Kirchgasse 2\, Mülsen/St. Jakob\, 08132
END:VEVENT
END:VCALENDAR