BEGIN:VCALENDAR
VERSION:2.0
PRODID:-//evangelisationsteam.de - ECPv6.15.20//NONSGML v1.0//EN
CALSCALE:GREGORIAN
METHOD:PUBLISH
X-WR-CALNAME:evangelisationsteam.de
X-ORIGINAL-URL:https://www.evangelisationsteam.de
X-WR-CALDESC:Veranstaltungen für evangelisationsteam.de
REFRESH-INTERVAL;VALUE=DURATION:PT1H
X-Robots-Tag:noindex
X-PUBLISHED-TTL:PT1H
BEGIN:VTIMEZONE
TZID:UTC
BEGIN:STANDARD
TZOFFSETFROM:+0000
TZOFFSETTO:+0000
TZNAME:UTC
DTSTART:20180101T000000
END:STANDARD
END:VTIMEZONE
BEGIN:VEVENT
DTSTART;TZID=UTC:20190822T190000
DTEND;TZID=UTC:20190822T210000
DTSTAMP:20260424T040156
CREATED:20190716T050328Z
LAST-MODIFIED:20190716T050328Z
UID:10001628-1566500400-1566507600@www.evangelisationsteam.de
SUMMARY:SEMINAR MODERATION
DESCRIPTION:GUNTRAM WURST
URL:https://www.evangelisationsteam.de/termin/seminar-moderation/
LOCATION:Pfarr­haus Sehmatal-Cranzahl\, Dorfstraße 72\, Sehmatal-Cranzahl\, 09465
ORGANIZER;CN="Ev.-Luth. Himmelfahrtskirchgemeinde Cranzahl":MAILTO:kg.cranzahl@evlks.de
END:VEVENT
END:VCALENDAR