BEGIN:VCALENDAR
VERSION:2.0
PRODID:-//evangelisationsteam.de - ECPv6.15.20//NONSGML v1.0//EN
CALSCALE:GREGORIAN
METHOD:PUBLISH
X-WR-CALNAME:evangelisationsteam.de
X-ORIGINAL-URL:https://www.evangelisationsteam.de
X-WR-CALDESC:Veranstaltungen für evangelisationsteam.de
REFRESH-INTERVAL;VALUE=DURATION:PT1H
X-Robots-Tag:noindex
X-PUBLISHED-TTL:PT1H
BEGIN:VTIMEZONE
TZID:UTC
BEGIN:STANDARD
TZOFFSETFROM:+0000
TZOFFSETTO:+0000
TZNAME:UTC
DTSTART:20160101T000000
END:STANDARD
END:VTIMEZONE
BEGIN:VEVENT
DTSTART;VALUE=DATE:20171229
DTEND;VALUE=DATE:20180103
DTSTAMP:20260422T123803
CREATED:20170824T124653Z
LAST-MODIFIED:20170824T124653Z
UID:10001310-1514505600-1514937599@www.evangelisationsteam.de
SUMMARY:VORTRÄGE + KONZERT
DESCRIPTION:LUTZ SCHEUFLER
URL:https://www.evangelisationsteam.de/termin/vortraege/
LOCATION:SCHÖNBLICK\, Willy-Schenk-Straße 9\, Schwäbisch Gmünd\, 73527
END:VEVENT
END:VCALENDAR