BEGIN:VCALENDAR
VERSION:2.0
PRODID:-//evangelisationsteam.de - ECPv6.15.20//NONSGML v1.0//EN
CALSCALE:GREGORIAN
METHOD:PUBLISH
X-WR-CALNAME:evangelisationsteam.de
X-ORIGINAL-URL:https://www.evangelisationsteam.de
X-WR-CALDESC:Veranstaltungen für evangelisationsteam.de
REFRESH-INTERVAL;VALUE=DURATION:PT1H
X-Robots-Tag:noindex
X-PUBLISHED-TTL:PT1H
BEGIN:VTIMEZONE
TZID:Europe/Berlin
BEGIN:DAYLIGHT
TZOFFSETFROM:+0100
TZOFFSETTO:+0200
TZNAME:CEST
DTSTART:20190331T010000
END:DAYLIGHT
BEGIN:STANDARD
TZOFFSETFROM:+0200
TZOFFSETTO:+0100
TZNAME:CET
DTSTART:20191027T010000
END:STANDARD
BEGIN:DAYLIGHT
TZOFFSETFROM:+0100
TZOFFSETTO:+0200
TZNAME:CEST
DTSTART:20200329T010000
END:DAYLIGHT
BEGIN:STANDARD
TZOFFSETFROM:+0200
TZOFFSETTO:+0100
TZNAME:CET
DTSTART:20201025T010000
END:STANDARD
BEGIN:DAYLIGHT
TZOFFSETFROM:+0100
TZOFFSETTO:+0200
TZNAME:CEST
DTSTART:20210328T010000
END:DAYLIGHT
BEGIN:STANDARD
TZOFFSETFROM:+0200
TZOFFSETTO:+0100
TZNAME:CET
DTSTART:20211031T010000
END:STANDARD
BEGIN:DAYLIGHT
TZOFFSETFROM:+0100
TZOFFSETTO:+0200
TZNAME:CEST
DTSTART:20220327T010000
END:DAYLIGHT
BEGIN:STANDARD
TZOFFSETFROM:+0200
TZOFFSETTO:+0100
TZNAME:CET
DTSTART:20221030T010000
END:STANDARD
BEGIN:DAYLIGHT
TZOFFSETFROM:+0100
TZOFFSETTO:+0200
TZNAME:CEST
DTSTART:20230326T010000
END:DAYLIGHT
BEGIN:STANDARD
TZOFFSETFROM:+0200
TZOFFSETTO:+0100
TZNAME:CET
DTSTART:20231029T010000
END:STANDARD
BEGIN:DAYLIGHT
TZOFFSETFROM:+0100
TZOFFSETTO:+0200
TZNAME:CEST
DTSTART:20240331T010000
END:DAYLIGHT
BEGIN:STANDARD
TZOFFSETFROM:+0200
TZOFFSETTO:+0100
TZNAME:CET
DTSTART:20241027T010000
END:STANDARD
BEGIN:DAYLIGHT
TZOFFSETFROM:+0100
TZOFFSETTO:+0200
TZNAME:CEST
DTSTART:20250330T010000
END:DAYLIGHT
BEGIN:STANDARD
TZOFFSETFROM:+0200
TZOFFSETTO:+0100
TZNAME:CET
DTSTART:20251026T010000
END:STANDARD
BEGIN:DAYLIGHT
TZOFFSETFROM:+0100
TZOFFSETTO:+0200
TZNAME:CEST
DTSTART:20260329T010000
END:DAYLIGHT
BEGIN:STANDARD
TZOFFSETFROM:+0200
TZOFFSETTO:+0100
TZNAME:CET
DTSTART:20261025T010000
END:STANDARD
END:VTIMEZONE
BEGIN:VTIMEZONE
TZID:UTC
BEGIN:STANDARD
TZOFFSETFROM:+0000
TZOFFSETTO:+0000
TZNAME:UTC
DTSTART:20160101T000000
END:STANDARD
END:VTIMEZONE
BEGIN:VEVENT
DTSTART;TZID=Europe/Berlin:20250421T101500
DTEND;TZID=Europe/Berlin:20250421T120000
DTSTAMP:20260419T181537
CREATED:20250120T163016Z
LAST-MODIFIED:20250221T111929Z
UID:10005983-1745230500-1745236800@www.evangelisationsteam.de
SUMMARY:Oase-Gottesdienst
DESCRIPTION:LUTZ SCHEUFLER
URL:https://www.evangelisationsteam.de/termin/oase-gottesdienst-13/
LOCATION:St. Jo­han­nis­kir­che CRIMMITSCHAU\, Hainstr. 1a\, CRIMMITSCHAU\, 08451
ATTACH;FMTTYPE=image/jpeg:https://www.evangelisationsteam.de/wp-content/uploads/2020/03/Bräuer-1609.jpeg
END:VEVENT
BEGIN:VEVENT
DTSTART;TZID=Europe/Berlin:20241110T101500
DTEND;TZID=Europe/Berlin:20241110T113000
DTSTAMP:20260419T181537
CREATED:20240719T141939Z
LAST-MODIFIED:20241103T175320Z
UID:10005873-1731233700-1731238200@www.evangelisationsteam.de
SUMMARY:OASE-GOTTESDIENST
DESCRIPTION:LUTZ SCHEUFLER
URL:https://www.evangelisationsteam.de/termin/oase-gottesdienst-12/
LOCATION:St. Jo­han­nis­kir­che CRIMMITSCHAU\, Hainstr. 1a\, CRIMMITSCHAU\, 08451
ATTACH;FMTTYPE=image/jpeg:https://www.evangelisationsteam.de/wp-content/uploads/2024/03/Lutz-Scheufler-1.jpg
END:VEVENT
BEGIN:VEVENT
DTSTART;TZID=Europe/Berlin:20241013T101500
DTEND;TZID=Europe/Berlin:20241013T113000
DTSTAMP:20260419T181537
CREATED:20240425T102100Z
LAST-MODIFIED:20240530T074831Z
UID:10005437-1728814500-1728819000@www.evangelisationsteam.de
SUMMARY:Oase-Gottesdienst in Crimmitschau
DESCRIPTION:
URL:https://www.evangelisationsteam.de/termin/oase-gottesdienst-in-crimmitschau-4/
LOCATION:St. Jo­han­nis­kir­che CRIMMITSCHAU\, Hainstr. 1a\, CRIMMITSCHAU\, 08451
ATTACH;FMTTYPE=image/jpeg:https://www.evangelisationsteam.de/wp-content/uploads/2024/04/Verkuendigung-007-Kopie.jpeg
END:VEVENT
BEGIN:VEVENT
DTSTART;TZID=Europe/Berlin:20240512T101500
DTEND;TZID=Europe/Berlin:20240512T113000
DTSTAMP:20260419T181537
CREATED:20240308T091014Z
LAST-MODIFIED:20240308T091014Z
UID:10005028-1715508900-1715513400@www.evangelisationsteam.de
SUMMARY:OASE-GOTTESDIENST
DESCRIPTION:GUNTRAM WURST
URL:https://www.evangelisationsteam.de/termin/oase-gottesdienst-11/
LOCATION:St. Jo­han­nis­kir­che CRIMMITSCHAU\, Hainstr. 1a\, CRIMMITSCHAU\, 08451
ATTACH;FMTTYPE=image/jpeg:https://www.evangelisationsteam.de/wp-content/uploads/2023/03/IMG_1234-scaled.jpg
ORGANIZER;CN="CVJM Crimmitschau e.V":MAILTO:info@cvjm-crimmitschau.de
END:VEVENT
BEGIN:VEVENT
DTSTART;TZID=Europe/Berlin:20230312T101500
DTEND;TZID=Europe/Berlin:20230312T113000
DTSTAMP:20260419T181537
CREATED:20221123T084532Z
LAST-MODIFIED:20221123T084532Z
UID:10002831-1678616100-1678620600@www.evangelisationsteam.de
SUMMARY:Oase-Gottesdienst
DESCRIPTION:LUTZ SCHEUFLER
URL:https://www.evangelisationsteam.de/termin/oase-gottesdienst-10/
LOCATION:St. Jo­han­nis­kir­che CRIMMITSCHAU\, Hainstr. 1a\, CRIMMITSCHAU\, 08451
ATTACH;FMTTYPE=image/jpeg:https://www.evangelisationsteam.de/wp-content/uploads/2022/06/2022-Scheufler.jpg
END:VEVENT
BEGIN:VEVENT
DTSTART;TZID=Europe/Berlin:20230115T101500
DTEND;TZID=Europe/Berlin:20230115T114500
DTSTAMP:20260419T181537
CREATED:20221202T102155Z
LAST-MODIFIED:20221202T102155Z
UID:10002838-1673777700-1673783100@www.evangelisationsteam.de
SUMMARY:Allianzgottesdienst Crimmitschau
DESCRIPTION:
URL:https://www.evangelisationsteam.de/termin/allianzgottesdienst-crimmitschau-2/
LOCATION:St. Jo­han­nis­kir­che CRIMMITSCHAU\, Hainstr. 1a\, CRIMMITSCHAU\, 08451
END:VEVENT
BEGIN:VEVENT
DTSTART;TZID=UTC:20221113T103000
DTEND;TZID=UTC:20221113T120000
DTSTAMP:20260419T181537
CREATED:20220728T091548Z
LAST-MODIFIED:20220728T091548Z
UID:10002032-1668335400-1668340800@www.evangelisationsteam.de
SUMMARY:Oase-Gottesdienst in Crimmitschau
DESCRIPTION:
URL:https://www.evangelisationsteam.de/termin/oase-gottesdienst-in-crimmitschau-3/
LOCATION:St. Jo­han­nis­kir­che CRIMMITSCHAU\, Hainstr. 1a\, CRIMMITSCHAU\, 08451
END:VEVENT
BEGIN:VEVENT
DTSTART;TZID=Europe/Berlin:20221016T101500
DTEND;TZID=Europe/Berlin:20221016T120000
DTSTAMP:20260419T181537
CREATED:20220719T134252Z
LAST-MODIFIED:20220913T085049Z
UID:10001320-1665915300-1665921600@www.evangelisationsteam.de
SUMMARY:Oase-Gottesdienst
DESCRIPTION:LUTZ SCHEUFLER
URL:https://www.evangelisationsteam.de/termin/evangelisation-72/
LOCATION:St. Jo­han­nis­kir­che CRIMMITSCHAU\, Hainstr. 1a\, CRIMMITSCHAU\, 08451
ATTACH;FMTTYPE=image/jpeg:https://www.evangelisationsteam.de/wp-content/uploads/2022/06/2022-Scheufler.jpg
END:VEVENT
BEGIN:VEVENT
DTSTART;TZID=Europe/Berlin:20220213T101500
DTEND;TZID=Europe/Berlin:20220213T113000
DTSTAMP:20260419T181537
CREATED:20220213T091500Z
LAST-MODIFIED:20220206T173519Z
UID:10001256-1644747300-1644751800@www.evangelisationsteam.de
SUMMARY:Oase-Gottesdienst
DESCRIPTION:LUTZ SCHEUFLER
URL:https://www.evangelisationsteam.de/termin/oase-gottesdienst-9/
LOCATION:St. Jo­han­nis­kir­che CRIMMITSCHAU\, Hainstr. 1a\, CRIMMITSCHAU\, 08451
ATTACH;FMTTYPE=image/jpeg:https://www.evangelisationsteam.de/wp-content/uploads/2021/05/P1080606.jpg
END:VEVENT
BEGIN:VEVENT
DTSTART;TZID=Europe/Berlin:20210711T103000
DTEND;TZID=Europe/Berlin:20210711T113000
DTSTAMP:20260419T181537
CREATED:20210623T092257Z
LAST-MODIFIED:20210706T091542Z
UID:10001841-1625999400-1626003000@www.evangelisationsteam.de
SUMMARY:Oase-Gottesdienst Crimmitschau
DESCRIPTION:
URL:https://www.evangelisationsteam.de/termin/oase-gottesdienst-crimmitschau-2/
LOCATION:St. Jo­han­nis­kir­che CRIMMITSCHAU\, Hainstr. 1a\, CRIMMITSCHAU\, 08451
END:VEVENT
BEGIN:VEVENT
DTSTART;TZID=Europe/Berlin:20210613T101500
DTEND;TZID=Europe/Berlin:20210613T113000
DTSTAMP:20260419T181537
CREATED:20210121T145556Z
LAST-MODIFIED:20210607T083247Z
UID:10001790-1623579300-1623583800@www.evangelisationsteam.de
SUMMARY:OASE-GOTTESDIENST
DESCRIPTION:LUTZ SCHEUFLER
URL:https://www.evangelisationsteam.de/termin/oase-gottesdienst-8/
LOCATION:St. Jo­han­nis­kir­che CRIMMITSCHAU\, Hainstr. 1a\, CRIMMITSCHAU\, 08451
ATTACH;FMTTYPE=image/jpeg:https://www.evangelisationsteam.de/wp-content/uploads/2021/01/IMG_0699.jpg
END:VEVENT
BEGIN:VEVENT
DTSTART;TZID=Europe/Berlin:20201108T101500
DTEND;TZID=Europe/Berlin:20201108T113000
DTSTAMP:20260419T181537
CREATED:20200804T090404Z
LAST-MODIFIED:20201105T124644Z
UID:10001077-1604830500-1604835000@www.evangelisationsteam.de
SUMMARY:OASE-GOTTESDIENST
DESCRIPTION:LUTZ SCHEUFLER \nLive­stream
URL:https://www.evangelisationsteam.de/termin/oase-gottesdienst-7/
LOCATION:St. Jo­han­nis­kir­che CRIMMITSCHAU\, Hainstr. 1a\, CRIMMITSCHAU\, 08451
ATTACH;FMTTYPE=image/jpeg:https://www.evangelisationsteam.de/wp-content/uploads/2020/07/IMG_5519.jpeg
END:VEVENT
BEGIN:VEVENT
DTSTART;TZID=Europe/Berlin:20200510T103000
DTEND;TZID=Europe/Berlin:20200510T120000
DTSTAMP:20260419T181537
CREATED:20200110T105724Z
LAST-MODIFIED:20200110T105724Z
UID:10001024-1589106600-1589112000@www.evangelisationsteam.de
SUMMARY:Oase-Gottesdienst Crimmitschau
DESCRIPTION:
URL:https://www.evangelisationsteam.de/termin/oase-gottesdienst-crimmitschau/
LOCATION:St. Jo­han­nis­kir­che CRIMMITSCHAU\, Hainstr. 1a\, CRIMMITSCHAU\, 08451
END:VEVENT
BEGIN:VEVENT
DTSTART;TZID=UTC:20190512T101500
DTEND;TZID=UTC:20190512T113000
DTSTAMP:20260419T181537
CREATED:20181214T152750Z
LAST-MODIFIED:20181214T152750Z
UID:10001567-1557656100-1557660600@www.evangelisationsteam.de
SUMMARY:Oase-Gottesdienst in Crimmitschau
DESCRIPTION:
URL:https://www.evangelisationsteam.de/termin/oase-gottesdienst-in-crimmitschau-2/
LOCATION:St. Jo­han­nis­kir­che CRIMMITSCHAU\, Hainstr. 1a\, CRIMMITSCHAU\, 08451
END:VEVENT
BEGIN:VEVENT
DTSTART;TZID=UTC:20190422T101500
DTEND;TZID=UTC:20190422T114500
DTSTAMP:20260419T181537
CREATED:20190202T104717Z
LAST-MODIFIED:20190202T104717Z
UID:10000912-1555928100-1555933500@www.evangelisationsteam.de
SUMMARY:OSTER-OASE-GOTTESDIENST
DESCRIPTION:LUTZ SCHEUFLER
URL:https://www.evangelisationsteam.de/termin/oster-oase-gottesdienst/
LOCATION:St. Jo­han­nis­kir­che CRIMMITSCHAU\, Hainstr. 1a\, CRIMMITSCHAU\, 08451
END:VEVENT
BEGIN:VEVENT
DTSTART;TZID=UTC:20190120T101500
DTEND;TZID=UTC:20190120T113000
DTSTAMP:20260419T181537
CREATED:20181214T143120Z
LAST-MODIFIED:20181214T143120Z
UID:10001564-1547979300-1547983800@www.evangelisationsteam.de
SUMMARY:Allianzgottesdienst Crimmitschau
DESCRIPTION:
URL:https://www.evangelisationsteam.de/termin/allianzgottesdienst-crimmitschau/
LOCATION:St. Jo­han­nis­kir­che CRIMMITSCHAU\, Hainstr. 1a\, CRIMMITSCHAU\, 08451
END:VEVENT
BEGIN:VEVENT
DTSTART;TZID=UTC:20180909T101500
DTEND;TZID=UTC:20180909T114500
DTSTAMP:20260419T181537
CREATED:20180613T075804Z
LAST-MODIFIED:20180613T075804Z
UID:10001487-1536488100-1536493500@www.evangelisationsteam.de
SUMMARY:Oase-Gottesdienst in Crimmitschau
DESCRIPTION:
URL:https://www.evangelisationsteam.de/termin/oase-gottesdienst-in-crimmitschau/
LOCATION:St. Jo­han­nis­kir­che CRIMMITSCHAU\, Hainstr. 1a\, CRIMMITSCHAU\, 08451
END:VEVENT
BEGIN:VEVENT
DTSTART;TZID=UTC:20180114T101500
DTEND;TZID=UTC:20180114T114500
DTSTAMP:20260419T181537
CREATED:20170824T124752Z
LAST-MODIFIED:20170824T124752Z
UID:10001311-1515924900-1515930300@www.evangelisationsteam.de
SUMMARY:OASE-GOTTESDIENST
DESCRIPTION:LUTZ SCHEUFLER
URL:https://www.evangelisationsteam.de/termin/oase-gottesdienst-6/
LOCATION:St. Jo­han­nis­kir­che CRIMMITSCHAU\, Hainstr. 1a\, CRIMMITSCHAU\, 08451
END:VEVENT
BEGIN:VEVENT
DTSTART;TZID=UTC:20170417T101500
DTEND;TZID=UTC:20170417T114500
DTSTAMP:20260419T181537
CREATED:20170214T080201Z
LAST-MODIFIED:20170214T080201Z
UID:10001181-1492424100-1492429500@www.evangelisationsteam.de
SUMMARY:OASE GOTTESDIENST
DESCRIPTION:LUTZ SCHEUFLER
URL:https://www.evangelisationsteam.de/termin/oase-gottesdienst-5/
LOCATION:St. Jo­han­nis­kir­che CRIMMITSCHAU\, Hainstr. 1a\, CRIMMITSCHAU\, 08451
END:VEVENT
END:VCALENDAR