BEGIN:VCALENDAR
VERSION:2.0
PRODID:-//evangelisationsteam.de - ECPv6.15.20//NONSGML v1.0//EN
CALSCALE:GREGORIAN
METHOD:PUBLISH
X-ORIGINAL-URL:https://www.evangelisationsteam.de
X-WR-CALDESC:Veranstaltungen für evangelisationsteam.de
REFRESH-INTERVAL;VALUE=DURATION:PT1H
X-Robots-Tag:noindex
X-PUBLISHED-TTL:PT1H
BEGIN:VTIMEZONE
TZID:UTC
BEGIN:STANDARD
TZOFFSETFROM:+0000
TZOFFSETTO:+0000
TZNAME:UTC
DTSTART:20140101T000000
END:STANDARD
END:VTIMEZONE
BEGIN:VEVENT
DTSTART;TZID=UTC:20151004T100000
DTEND;TZID=UTC:20151004T111500
DTSTAMP:20260420T235506
CREATED:20151003T041312Z
LAST-MODIFIED:20151003T041312Z
UID:10000709-1443952800-1443957300@www.evangelisationsteam.de
SUMMARY:GOTTESDIENST
DESCRIPTION:LUTZ SCHEUFLER
URL:https://www.evangelisationsteam.de/termin/gottesdienst-19-2/
LOCATION:St. Mar­ti­ni­kir­che\, Martinikirchhof 3\, Bremen\, 28195
END:VEVENT
BEGIN:VEVENT
DTSTART;TZID=UTC:20151004T100000
DTEND;TZID=UTC:20151004T111500
DTSTAMP:20260420T235506
CREATED:20151003T041312Z
LAST-MODIFIED:20151003T041312Z
UID:10000710-1443952800-1443957300@www.evangelisationsteam.de
SUMMARY:GOTTESDIENST
DESCRIPTION:LUTZ SCHEUFLER
URL:https://www.evangelisationsteam.de/termin/gottesdienst-19/
LOCATION:St. Mar­ti­ni­kir­che\, Martinikirchhof 3\, Bremen\, 28195
END:VEVENT
BEGIN:VEVENT
DTSTART;TZID=UTC:20151004T100000
DTEND;TZID=UTC:20151004T111500
DTSTAMP:20260420T235506
CREATED:20151003T041312Z
LAST-MODIFIED:20151003T041312Z
UID:10000708-1443952800-1443957300@www.evangelisationsteam.de
SUMMARY:GOTTESDIENST
DESCRIPTION:LUTZ SCHEUFLER
URL:https://www.evangelisationsteam.de/termin/gottesdienst-19-3/
LOCATION:St. Mar­ti­ni­kir­che\, Martinikirchhof 3\, Bremen\, 28195
END:VEVENT
END:VCALENDAR