BEGIN:VCALENDAR
VERSION:2.0
PRODID:-//evangelisationsteam.de - ECPv6.15.20//NONSGML v1.0//EN
CALSCALE:GREGORIAN
METHOD:PUBLISH
X-WR-CALNAME:evangelisationsteam.de
X-ORIGINAL-URL:https://www.evangelisationsteam.de
X-WR-CALDESC:Veranstaltungen für evangelisationsteam.de
REFRESH-INTERVAL;VALUE=DURATION:PT1H
X-Robots-Tag:noindex
X-PUBLISHED-TTL:PT1H
BEGIN:VTIMEZONE
TZID:Europe/Berlin
BEGIN:DAYLIGHT
TZOFFSETFROM:+0100
TZOFFSETTO:+0200
TZNAME:CEST
DTSTART:20190331T010000
END:DAYLIGHT
BEGIN:STANDARD
TZOFFSETFROM:+0200
TZOFFSETTO:+0100
TZNAME:CET
DTSTART:20191027T010000
END:STANDARD
BEGIN:DAYLIGHT
TZOFFSETFROM:+0100
TZOFFSETTO:+0200
TZNAME:CEST
DTSTART:20200329T010000
END:DAYLIGHT
BEGIN:STANDARD
TZOFFSETFROM:+0200
TZOFFSETTO:+0100
TZNAME:CET
DTSTART:20201025T010000
END:STANDARD
BEGIN:DAYLIGHT
TZOFFSETFROM:+0100
TZOFFSETTO:+0200
TZNAME:CEST
DTSTART:20210328T010000
END:DAYLIGHT
BEGIN:STANDARD
TZOFFSETFROM:+0200
TZOFFSETTO:+0100
TZNAME:CET
DTSTART:20211031T010000
END:STANDARD
BEGIN:DAYLIGHT
TZOFFSETFROM:+0100
TZOFFSETTO:+0200
TZNAME:CEST
DTSTART:20220327T010000
END:DAYLIGHT
BEGIN:STANDARD
TZOFFSETFROM:+0200
TZOFFSETTO:+0100
TZNAME:CET
DTSTART:20221030T010000
END:STANDARD
BEGIN:DAYLIGHT
TZOFFSETFROM:+0100
TZOFFSETTO:+0200
TZNAME:CEST
DTSTART:20230326T010000
END:DAYLIGHT
BEGIN:STANDARD
TZOFFSETFROM:+0200
TZOFFSETTO:+0100
TZNAME:CET
DTSTART:20231029T010000
END:STANDARD
BEGIN:DAYLIGHT
TZOFFSETFROM:+0100
TZOFFSETTO:+0200
TZNAME:CEST
DTSTART:20240331T010000
END:DAYLIGHT
BEGIN:STANDARD
TZOFFSETFROM:+0200
TZOFFSETTO:+0100
TZNAME:CET
DTSTART:20241027T010000
END:STANDARD
BEGIN:DAYLIGHT
TZOFFSETFROM:+0100
TZOFFSETTO:+0200
TZNAME:CEST
DTSTART:20250330T010000
END:DAYLIGHT
BEGIN:STANDARD
TZOFFSETFROM:+0200
TZOFFSETTO:+0100
TZNAME:CET
DTSTART:20251026T010000
END:STANDARD
BEGIN:DAYLIGHT
TZOFFSETFROM:+0100
TZOFFSETTO:+0200
TZNAME:CEST
DTSTART:20260329T010000
END:DAYLIGHT
BEGIN:STANDARD
TZOFFSETFROM:+0200
TZOFFSETTO:+0100
TZNAME:CET
DTSTART:20261025T010000
END:STANDARD
END:VTIMEZONE
BEGIN:VTIMEZONE
TZID:UTC
BEGIN:STANDARD
TZOFFSETFROM:+0000
TZOFFSETTO:+0000
TZNAME:UTC
DTSTART:20160101T000000
END:STANDARD
END:VTIMEZONE
BEGIN:VEVENT
DTSTART;TZID=Europe/Berlin:20251004T183000
DTEND;TZID=Europe/Berlin:20251004T210000
DTSTAMP:20260420T154333
CREATED:20250911T081245Z
LAST-MODIFIED:20250911T081546Z
UID:10008029-1759602600-1759611600@www.evangelisationsteam.de
SUMMARY:Junge Gemeinde - Jugendstunde
DESCRIPTION:Zwei Ty­pen. Zwei Zie­le. Zwei Herzen. Der ei­ne will be­hal­ten\, was ihm wich­tig ist. Der an­de­re gibt al­les auf\, weil Je­sus al­les ist. \nWas pas­siert\, wenn Je­sus dein Le­ben auf den Kopf stellt? \nEnt­de­cke mit uns\, wie Chris­tus Her­zen ver­än­dert – da­mals wie heute. Ein Im­puls­abend über Eh­re\, Angst\, Hoff­nung und ech­te Veränderung.
URL:https://www.evangelisationsteam.de/termin/jugendstunde-9/
LOCATION:Stüt­zen­grün\, LKG\, Talstraße 30 a\, Stützengrün\, 08328
ATTACH;FMTTYPE=image/heic:https://www.evangelisationsteam.de/wp-content/uploads/2025/09/Alexander2-scaled.jpg
ORGANIZER;CN="LKG St%C3%BCtzengr%C3%BCn":MAILTO:is@lkg-grund.de
END:VEVENT
BEGIN:VEVENT
DTSTART;TZID=Europe/Berlin:20230226T140000
DTEND;TZID=Europe/Berlin:20230226T160000
DTSTAMP:20260420T154333
CREATED:20221123T083938Z
LAST-MODIFIED:20221123T083938Z
UID:10002826-1677420000-1677427200@www.evangelisationsteam.de
SUMMARY:Blaues Kreuz
DESCRIPTION:LUTZ SCHEUFLER
URL:https://www.evangelisationsteam.de/termin/blaues-kreuz-13/
LOCATION:Stüt­zen­grün\, LKG\, Talstraße 30 a\, Stützengrün\, 08328
ATTACH;FMTTYPE=image/jpeg:https://www.evangelisationsteam.de/wp-content/uploads/2022/06/Lutz-Scheufler.jpg
END:VEVENT
BEGIN:VEVENT
DTSTART;TZID=Europe/Berlin:20210917T200000
DTEND;TZID=Europe/Berlin:20210917T200000
DTSTAMP:20260420T154333
CREATED:20210622T133241Z
LAST-MODIFIED:20210717T105305Z
UID:10001147-1631908800-1631908800@www.evangelisationsteam.de
SUMMARY:Konzert
DESCRIPTION:LUTZ SCHEUFLER
URL:https://www.evangelisationsteam.de/termin/konzert-40/
LOCATION:Stüt­zen­grün\, LKG\, Talstraße 30 a\, Stützengrün\, 08328
ATTACH;FMTTYPE=image/jpeg:https://www.evangelisationsteam.de/wp-content/uploads/2020/03/Bräuer-6130.jpeg
END:VEVENT
BEGIN:VEVENT
DTSTART;TZID=Europe/Berlin:20200228T200000
DTEND;TZID=Europe/Berlin:20200228T213000
DTSTAMP:20260420T154333
CREATED:20191028T132451Z
LAST-MODIFIED:20191028T132451Z
UID:10000997-1582920000-1582925400@www.evangelisationsteam.de
SUMMARY:THEMENABEND
DESCRIPTION:DR. CHRISTA-MARIA STEINBERG
URL:https://www.evangelisationsteam.de/termin/themenabend/
LOCATION:Stüt­zen­grün\, LKG\, Talstraße 30 a\, Stützengrün\, 08328
ATTACH;FMTTYPE=image/jpeg:https://www.evangelisationsteam.de/wp-content/uploads/2019/02/P1020128-2.jpeg
END:VEVENT
BEGIN:VEVENT
DTSTART;TZID=UTC:20190309T200000
DTEND;TZID=UTC:20190309T213000
DTSTAMP:20260420T154333
CREATED:20190202T102421Z
LAST-MODIFIED:20190202T102421Z
UID:10001582-1552161600-1552167000@www.evangelisationsteam.de
SUMMARY:OFFENER ABEND
DESCRIPTION:DR. CHRISTA-MARIA STEINBERG
URL:https://www.evangelisationsteam.de/termin/offener-abend-13/
LOCATION:Stüt­zen­grün\, LKG\, Talstraße 30 a\, Stützengrün\, 08328
END:VEVENT
BEGIN:VEVENT
DTSTART;TZID=UTC:20180120T190000
DTEND;TZID=UTC:20180120T203000
DTSTAMP:20260420T154333
CREATED:20171211T071121Z
LAST-MODIFIED:20171211T071121Z
UID:10000723-1516474800-1516480200@www.evangelisationsteam.de
SUMMARY:ALLIANZ-JUGENDABEND
DESCRIPTION:LUTZ SCHEUFLER
URL:https://www.evangelisationsteam.de/termin/allianzjugendabend/
LOCATION:Stüt­zen­grün\, LKG\, Talstraße 30 a\, Stützengrün\, 08328
END:VEVENT
BEGIN:VEVENT
DTSTART;TZID=UTC:20170309T200000
DTEND;TZID=UTC:20170309T213000
DTSTAMP:20260420T154333
CREATED:20161215T165819Z
LAST-MODIFIED:20161215T165819Z
UID:10001107-1489089600-1489095000@www.evangelisationsteam.de
SUMMARY:GEMEINSCHAFTSSTUNDE
DESCRIPTION:DR. CHRISTA-MARIA STEINBERG
URL:https://www.evangelisationsteam.de/termin/gemeinschaftsstunde-4-3/
LOCATION:Stüt­zen­grün\, LKG\, Talstraße 30 a\, Stützengrün\, 08328
END:VEVENT
END:VCALENDAR