BEGIN:VCALENDAR
VERSION:2.0
PRODID:-//evangelisationsteam.de - ECPv6.15.20//NONSGML v1.0//EN
CALSCALE:GREGORIAN
METHOD:PUBLISH
X-WR-CALNAME:evangelisationsteam.de
X-ORIGINAL-URL:https://www.evangelisationsteam.de
X-WR-CALDESC:Veranstaltungen für evangelisationsteam.de
REFRESH-INTERVAL;VALUE=DURATION:PT1H
X-Robots-Tag:noindex
X-PUBLISHED-TTL:PT1H
BEGIN:VTIMEZONE
TZID:UTC
BEGIN:STANDARD
TZOFFSETFROM:+0000
TZOFFSETTO:+0000
TZNAME:UTC
DTSTART:20150101T000000
END:STANDARD
END:VTIMEZONE
BEGIN:VEVENT
DTSTART;TZID=UTC:20160310T193000
DTEND;TZID=UTC:20160310T210000
DTSTAMP:20260419T144427
CREATED:20151123T160104Z
LAST-MODIFIED:20151123T160104Z
UID:10000727-1457638200-1457643600@www.evangelisationsteam.de
SUMMARY:MÄNNERTREFF
DESCRIPTION:DR. THEO LEHMANN
URL:https://www.evangelisationsteam.de/termin/maennertreff/
LOCATION:Un­be­nann­ter Veranstaltungsort\, ALTENHAINES STR. 26\, CHEMNITZ
END:VEVENT
BEGIN:VEVENT
DTSTART;TZID=UTC:20160310T193000
DTEND;TZID=UTC:20160310T210000
DTSTAMP:20260419T144427
CREATED:20151123T160104Z
LAST-MODIFIED:20151123T160104Z
UID:10000834-1457638200-1457643600@www.evangelisationsteam.de
SUMMARY:MÄNNERTREFF
DESCRIPTION:DR. THEO LEHMANN
URL:https://www.evangelisationsteam.de/termin/maennertreff-3/
LOCATION:Un­be­nann­ter Veranstaltungsort\, ALTENHAINES STR. 26\, CHEMNITZ
END:VEVENT
BEGIN:VEVENT
DTSTART;TZID=UTC:20160310T193000
DTEND;TZID=UTC:20160310T210000
DTSTAMP:20260419T144427
CREATED:20151123T160104Z
LAST-MODIFIED:20151123T160104Z
UID:10000835-1457638200-1457643600@www.evangelisationsteam.de
SUMMARY:MÄNNERTREFF
DESCRIPTION:DR. THEO LEHMANN
URL:https://www.evangelisationsteam.de/termin/maennertreff-2/
LOCATION:Un­be­nann­ter Veranstaltungsort\, ALTENHAINES STR. 26\, CHEMNITZ
END:VEVENT
END:VCALENDAR