BEGIN:VCALENDAR
VERSION:2.0
PRODID:-//evangelisationsteam.de - ECPv6.15.20//NONSGML v1.0//EN
CALSCALE:GREGORIAN
METHOD:PUBLISH
X-WR-CALNAME:evangelisationsteam.de
X-ORIGINAL-URL:https://www.evangelisationsteam.de
X-WR-CALDESC:Veranstaltungen für evangelisationsteam.de
REFRESH-INTERVAL;VALUE=DURATION:PT1H
X-Robots-Tag:noindex
X-PUBLISHED-TTL:PT1H
BEGIN:VTIMEZONE
TZID:UTC
BEGIN:STANDARD
TZOFFSETFROM:+0000
TZOFFSETTO:+0000
TZNAME:UTC
DTSTART:20150101T000000
END:STANDARD
END:VTIMEZONE
BEGIN:VEVENT
DTSTART;TZID=UTC:20160906T090000
DTEND;TZID=UTC:20160906T110000
DTSTAMP:20260420T110829
CREATED:20160523T142051Z
LAST-MODIFIED:20160523T142051Z
UID:10000943-1473152400-1473159600@www.evangelisationsteam.de
SUMMARY:BIBELFRÜHSTÜCK
DESCRIPTION:DR. CHRISTA-MARIA STEINBERG
URL:https://www.evangelisationsteam.de/termin/bibelfruehstueck-2-3/
LOCATION:Un­be­nann­ter Veranstaltungsort\, Neumarkt 2 \, Hohenstein-Ernstthal \, 09337
END:VEVENT
END:VCALENDAR