BEGIN:VCALENDAR
VERSION:2.0
PRODID:-//evangelisationsteam.de - ECPv6.15.20//NONSGML v1.0//EN
CALSCALE:GREGORIAN
METHOD:PUBLISH
X-WR-CALNAME:evangelisationsteam.de
X-ORIGINAL-URL:https://www.evangelisationsteam.de
X-WR-CALDESC:Veranstaltungen für evangelisationsteam.de
REFRESH-INTERVAL;VALUE=DURATION:PT1H
X-Robots-Tag:noindex
X-PUBLISHED-TTL:PT1H
BEGIN:VTIMEZONE
TZID:UTC
BEGIN:STANDARD
TZOFFSETFROM:+0000
TZOFFSETTO:+0000
TZNAME:UTC
DTSTART:20140101T000000
END:STANDARD
END:VTIMEZONE
BEGIN:VEVENT
DTSTART;TZID=UTC:20150504T193000
DTEND;TZID=UTC:20150504T210000
DTSTAMP:20260419T175612
CREATED:20150328T150210Z
LAST-MODIFIED:20150328T150210Z
UID:10000078-1430767800-1430773200@www.evangelisationsteam.de
SUMMARY:Zeltevangelisation
DESCRIPTION:LUTZ SCHEUFLER
URL:https://www.evangelisationsteam.de/termin/zeltevangelisation-2/
LOCATION:ZELT\, HASTE\, 31559
END:VEVENT
BEGIN:VEVENT
DTSTART;TZID=UTC:20150504T193000
DTEND;TZID=UTC:20150504T210000
DTSTAMP:20260419T175612
CREATED:20150328T150210Z
LAST-MODIFIED:20150328T150210Z
UID:10000080-1430767800-1430773200@www.evangelisationsteam.de
SUMMARY:Zeltevangelisation
DESCRIPTION:LUTZ SCHEUFLER
URL:https://www.evangelisationsteam.de/termin/zeltevangelisation-2-2/
LOCATION:ZELT\, HASTE\, 31559
END:VEVENT
BEGIN:VEVENT
DTSTART;TZID=UTC:20150504T193000
DTEND;TZID=UTC:20150504T210000
DTSTAMP:20260419T175612
CREATED:20150328T150210Z
LAST-MODIFIED:20150328T150210Z
UID:10000081-1430767800-1430773200@www.evangelisationsteam.de
SUMMARY:Zeltevangelisation
DESCRIPTION:LUTZ SCHEUFLER
URL:https://www.evangelisationsteam.de/termin/zeltevangelisation-2-3/
LOCATION:ZELT\, HASTE\, 31559
END:VEVENT
BEGIN:VEVENT
DTSTART;TZID=UTC:20150503T193000
DTEND;TZID=UTC:20150503T210000
DTSTAMP:20260419T175612
CREATED:20150328T145934Z
LAST-MODIFIED:20150328T145934Z
UID:10000251-1430681400-1430686800@www.evangelisationsteam.de
SUMMARY:KONZERT
DESCRIPTION:SCHEUFLER & SCHEUFLER
URL:https://www.evangelisationsteam.de/termin/konzert/
LOCATION:ZELT\, HASTE\, 31559
END:VEVENT
BEGIN:VEVENT
DTSTART;TZID=UTC:20150503T193000
DTEND;TZID=UTC:20150503T210000
DTSTAMP:20260419T175612
CREATED:20150328T145934Z
LAST-MODIFIED:20150328T145934Z
UID:10000074-1430681400-1430686800@www.evangelisationsteam.de
SUMMARY:KONZERT
DESCRIPTION:SCHEUFLER & SCHEUFLER
URL:https://www.evangelisationsteam.de/termin/konzert-17/
LOCATION:ZELT\, HASTE\, 31559
END:VEVENT
BEGIN:VEVENT
DTSTART;TZID=UTC:20150503T193000
DTEND;TZID=UTC:20150503T210000
DTSTAMP:20260419T175612
CREATED:20150328T145934Z
LAST-MODIFIED:20150328T145934Z
UID:10000075-1430681400-1430686800@www.evangelisationsteam.de
SUMMARY:KONZERT
DESCRIPTION:SCHEUFLER & SCHEUFLER
URL:https://www.evangelisationsteam.de/termin/konzert-18/
LOCATION:ZELT\, HASTE\, 31559
END:VEVENT
END:VCALENDAR