BEGIN:VCALENDAR
VERSION:2.0
PRODID:-//evangelisationsteam.de - ECPv6.15.20//NONSGML v1.0//EN
CALSCALE:GREGORIAN
METHOD:PUBLISH
X-WR-CALNAME:evangelisationsteam.de
X-ORIGINAL-URL:https://www.evangelisationsteam.de
X-WR-CALDESC:Veranstaltungen für evangelisationsteam.de
REFRESH-INTERVAL;VALUE=DURATION:PT1H
X-Robots-Tag:noindex
X-PUBLISHED-TTL:PT1H
BEGIN:VTIMEZONE
TZID:Europe/Berlin
BEGIN:DAYLIGHT
TZOFFSETFROM:+0100
TZOFFSETTO:+0200
TZNAME:CEST
DTSTART:20230326T010000
END:DAYLIGHT
BEGIN:STANDARD
TZOFFSETFROM:+0200
TZOFFSETTO:+0100
TZNAME:CET
DTSTART:20231029T010000
END:STANDARD
BEGIN:DAYLIGHT
TZOFFSETFROM:+0100
TZOFFSETTO:+0200
TZNAME:CEST
DTSTART:20240331T010000
END:DAYLIGHT
BEGIN:STANDARD
TZOFFSETFROM:+0200
TZOFFSETTO:+0100
TZNAME:CET
DTSTART:20241027T010000
END:STANDARD
BEGIN:DAYLIGHT
TZOFFSETFROM:+0100
TZOFFSETTO:+0200
TZNAME:CEST
DTSTART:20250330T010000
END:DAYLIGHT
BEGIN:STANDARD
TZOFFSETFROM:+0200
TZOFFSETTO:+0100
TZNAME:CET
DTSTART:20251026T010000
END:STANDARD
END:VTIMEZONE
BEGIN:VTIMEZONE
TZID:UTC
BEGIN:STANDARD
TZOFFSETFROM:+0000
TZOFFSETTO:+0000
TZNAME:UTC
DTSTART:20170101T000000
END:STANDARD
END:VTIMEZONE
BEGIN:VEVENT
DTSTART;TZID=Europe/Berlin:20241101T190000
DTEND;TZID=Europe/Berlin:20241101T203000
DTSTAMP:20260419T175845
CREATED:20240727T085803Z
LAST-MODIFIED:20240727T085803Z
UID:10005889-1730487600-1730493000@www.evangelisationsteam.de
SUMMARY:Frauenabend
DESCRIPTION:DR. CHRISTA-MARIA STEINBERG
URL:https://www.evangelisationsteam.de/termin/frauenabend-12/
LOCATION:FRAUREUTH\, Schulstraße 1\, FRAUREUTH\, 08427
ATTACH;FMTTYPE=image/jpeg:https://www.evangelisationsteam.de/wp-content/uploads/2024/03/CRISTA-MARIA-STEINBERG©kairospress-scaled.jpg
END:VEVENT
BEGIN:VEVENT
DTSTART;TZID=UTC:20180916T100000
DTEND;TZID=UTC:20180916T113000
DTSTAMP:20260419T175845
CREATED:20180505T160614Z
LAST-MODIFIED:20180505T160614Z
UID:10001468-1537092000-1537097400@www.evangelisationsteam.de
SUMMARY:ZELT-GOTTESDIENST
DESCRIPTION:LUTZ SCHEUFLER
URL:https://www.evangelisationsteam.de/termin/zelt-gottesdienst-3/
LOCATION:FRAUREUTH\, Schulstraße 1\, FRAUREUTH\, 08427
END:VEVENT
BEGIN:VEVENT
DTSTART;TZID=UTC:20180912T193000
DTEND;TZID=UTC:20180915T193000
DTSTAMP:20260419T175845
CREATED:20180505T160521Z
LAST-MODIFIED:20180505T160521Z
UID:10001467-1536780600-1537039800@www.evangelisationsteam.de
SUMMARY:ZELT-EVANGELISATION
DESCRIPTION:LUTZ SCHEUFLER \nhttps://​www​.evan​ge​li​sa​ti​ons​team​.de/​w​p​-​c​o​n​t​e​n​t​/​u​p​l​o​a​d​s​/​2​0​1​8​/​0​5​/​1​8​0​8​2​9​_​Z​e​l​t​.​mp3
URL:https://www.evangelisationsteam.de/termin/zelt-evangelisation/
LOCATION:FRAUREUTH\, Schulstraße 1\, FRAUREUTH\, 08427
END:VEVENT
END:VCALENDAR